BEGIN:VCALENDAR
VERSION:2.0
PRODID:-//NWRDC - ECPv6.15.19//NONSGML v1.0//EN
CALSCALE:GREGORIAN
METHOD:PUBLISH
X-ORIGINAL-URL:https://www.nwrdc.net
X-WR-CALDESC:Events for NWRDC
REFRESH-INTERVAL;VALUE=DURATION:PT1H
X-Robots-Tag:noindex
X-PUBLISHED-TTL:PT1H
BEGIN:VTIMEZONE
TZID:Africa/Abidjan
BEGIN:STANDARD
TZOFFSETFROM:+0000
TZOFFSETTO:+0000
TZNAME:GMT
DTSTART:20230101T000000
END:STANDARD
END:VTIMEZONE
BEGIN:VEVENT
DTSTART;TZID=Africa/Abidjan:20240521T080000
DTEND;TZID=Africa/Abidjan:20240521T090000
DTSTAMP:20260423T060609
CREATED:20240321T072353Z
LAST-MODIFIED:20240521T072345Z
UID:4829-1716278400-1716282000@www.nwrdc.net
SUMMARY:(168073) SMS2Q Positions & Assignments - Online Session
DESCRIPTION:SMS2Q sessions allow users from districts migrating within the next 6-9 months to bring any questions they encountered when completing their Pre-Migration trainings on the designated topic. Users can obtain the Training Schedule from their Project Manager that details the various PDC courses\, documentation\, and video resources that are a prerequisite to attending this Q&A session.
URL:https://www.nwrdc.net/event/sms2q-positions-assignments-online-session-5/
LOCATION:Online Only
CATEGORIES:HR/Payroll
END:VEVENT
BEGIN:VEVENT
DTSTART;TZID=Africa/Abidjan:20240521T100000
DTEND;TZID=Africa/Abidjan:20240521T110000
DTSTAMP:20260423T060609
CREATED:20240321T072411Z
LAST-MODIFIED:20240521T072410Z
UID:4839-1716285600-1716289200@www.nwrdc.net
SUMMARY:(168060) SMS2Q AR & General Inputs - Online Session
DESCRIPTION:SMS2Q sessions allow users from districts migrating within the next 6-9 months to bring any questions they encountered when completing their Pre-Migration trainings on the designated topic. Users can obtain the Training Schedule from their Project Manager that details the various PDC courses\, documentation\, and video resources that are a prerequisite to attending this Q&A session.
URL:https://www.nwrdc.net/event/sms2q-ar-general-inputs-online-session-5/
LOCATION:Online Only
CATEGORIES:Finance
END:VEVENT
END:VCALENDAR