BEGIN:VCALENDAR
VERSION:2.0
PRODID:-//NWRDC - ECPv6.15.19//NONSGML v1.0//EN
CALSCALE:GREGORIAN
METHOD:PUBLISH
X-ORIGINAL-URL:https://www.nwrdc.net
X-WR-CALDESC:Events for NWRDC
REFRESH-INTERVAL;VALUE=DURATION:PT1H
X-Robots-Tag:noindex
X-PUBLISHED-TTL:PT1H
BEGIN:VTIMEZONE
TZID:UTC
BEGIN:STANDARD
TZOFFSETFROM:+0000
TZOFFSETTO:+0000
TZNAME:UTC
DTSTART:20230101T000000
END:STANDARD
END:VTIMEZONE
BEGIN:VEVENT
DTSTART;VALUE=DATE:20240522
DTEND;VALUE=DATE:20240523
DTSTAMP:20260423T035817
CREATED:20240321T045614Z
LAST-MODIFIED:20240522T045627Z
UID:4817-1716336000-1716422399@www.nwrdc.net
SUMMARY:(168088) Qmlativ Attendance Basics - Online Session
DESCRIPTION:During this session attendees will; view Attendance codes\, Calendar and Attendance configurations that may impact your ability to enter attendance. In addition attendees will learn how to create a substitute assignment view how a teacher takes attendance enter attendance for a class activity or range of students (large groups of students) or an individual student(s) and basic attendance information reports. This is a hands on session. \nTarget Audience: Office Staff that enters Attendance.
URL:https://www.nwrdc.net/event/qmlativ-attendance-basics-online-session-2/
LOCATION:NWRDC (Everett) – Training Lab
CATEGORIES:Student
END:VEVENT
BEGIN:VEVENT
DTSTART;VALUE=DATE:20240522
DTEND;VALUE=DATE:20240523
DTSTAMP:20260423T035817
CREATED:20240321T045615Z
LAST-MODIFIED:20240522T045627Z
UID:4818-1716336000-1716422399@www.nwrdc.net
SUMMARY:(168089) Qmlativ Data Mining Basics - Online Session
DESCRIPTION:This 2 hour online workshop will cover how to create a basic data mining report that can be used as a template for other data mining reports as well as a starting point for reports in Qmlativ Report Manager. Pending time\, other topics covered may include: Student Mailing Labels\, Student Information Labels\, Qmlativ navigation basics\, and a brief overview of what Qmlativ Report Manager is and how it can be used. This is a hands on session.   \nTarget Audience: Users who want to learn more about Data Mining and its functionality in Qmlativ. This course is reserved for those districts that are in process or have completed migration into Qmlativ.
URL:https://www.nwrdc.net/event/qmlativ-data-mining-basics-online-session-5/
LOCATION:Online Only
CATEGORIES:Student
END:VEVENT
END:VCALENDAR