BEGIN:VCALENDAR
VERSION:2.0
PRODID:-//NWRDC - ECPv6.15.19//NONSGML v1.0//EN
CALSCALE:GREGORIAN
METHOD:PUBLISH
X-WR-CALNAME:NWRDC
X-ORIGINAL-URL:https://www.nwrdc.net
X-WR-CALDESC:Events for NWRDC
REFRESH-INTERVAL;VALUE=DURATION:PT1H
X-Robots-Tag:noindex
X-PUBLISHED-TTL:PT1H
BEGIN:VTIMEZONE
TZID:UTC
BEGIN:STANDARD
TZOFFSETFROM:+0000
TZOFFSETTO:+0000
TZNAME:UTC
DTSTART:20230101T000000
END:STANDARD
END:VTIMEZONE
BEGIN:VEVENT
DTSTART;VALUE=DATE:20240523
DTEND;VALUE=DATE:20240524
DTSTAMP:20260423T051654
CREATED:20230623T165606Z
LAST-MODIFIED:20240523T045605Z
UID:2492-1716422400-1716508799@www.nwrdc.net
SUMMARY:(157318) Student User Forum - Online Session
DESCRIPTION:The District Contacts User Forum meets monthly to review newly released features software updates tips for using the program effectively and the opportunity to share best business practices with peers. \nTarget Audience: District WESPaC Coordinators\, persons responsible for the SIS system at the district level.
URL:https://www.nwrdc.net/event/student-user-forum-online-session-12/
LOCATION:Online Only
CATEGORIES:Student
END:VEVENT
BEGIN:VEVENT
DTSTART;VALUE=DATE:20240523
DTEND;VALUE=DATE:20240524
DTSTAMP:20260423T051654
CREATED:20240425T165606Z
LAST-MODIFIED:20240523T045605Z
UID:5161-1716422400-1716508799@www.nwrdc.net
SUMMARY:(168999) Student Pre-migration Clean-up Lab - Online Session
DESCRIPTION:These hands-on online workshops will walk you through the processes of cleaning up SMS data with the NWRDC Student Team Experts on subject focused topics.
URL:https://www.nwrdc.net/event/168999-student-pre-migration-clean-up-lab/
LOCATION:Online Only
CATEGORIES:Student
END:VEVENT
BEGIN:VEVENT
DTSTART;TZID=UTC:20240523T090000
DTEND;TZID=UTC:20240523T120000
DTSTAMP:20260423T051654
CREATED:20240412T072527Z
LAST-MODIFIED:20240523T072416Z
UID:5033-1716454800-1716465600@www.nwrdc.net
SUMMARY:(168623) SMS & Qmlativ Budgeting Lab - Online Session
DESCRIPTION:Online financial budgeting lab to provide a place for districts to come and get support as they go through the financial budgeting process. This includes crosswalks\, F-195 extracts and more.   \nTarget Audience – District Staff involved with building the upcoming year’s budget.
URL:https://www.nwrdc.net/event/168623-sms-qmlativ-budgeting-lab-online-session/
LOCATION:Online Only
CATEGORIES:Finance
END:VEVENT
END:VCALENDAR