BEGIN:VCALENDAR
VERSION:2.0
PRODID:-//NWRDC - ECPv6.15.19//NONSGML v1.0//EN
CALSCALE:GREGORIAN
METHOD:PUBLISH
X-WR-CALNAME:NWRDC
X-ORIGINAL-URL:https://www.nwrdc.net
X-WR-CALDESC:Events for NWRDC
REFRESH-INTERVAL;VALUE=DURATION:PT1H
X-Robots-Tag:noindex
X-PUBLISHED-TTL:PT1H
BEGIN:VTIMEZONE
TZID:UTC
BEGIN:STANDARD
TZOFFSETFROM:+0000
TZOFFSETTO:+0000
TZNAME:UTC
DTSTART:20230101T000000
END:STANDARD
END:VTIMEZONE
BEGIN:VEVENT
DTSTART;VALUE=DATE:20240529
DTEND;VALUE=DATE:20240530
DTSTAMP:20260423T023751
CREATED:20240321T045615Z
LAST-MODIFIED:20240529T045600Z
UID:4819-1716940800-1717027199@www.nwrdc.net
SUMMARY:(168090) Qmlativ P223 State Reports - Online Session
DESCRIPTION:This online session will review the reports and supporting documents expected by the State Auditors for P-223 reporting. The session will explain the data elements and logic that is used by the system to calculate the P-223 numbers. Troubleshooting tips and reports will be presented to demonstrate how to reconcile both head counts and FTE values when the numbers don’t match what is expected. \nTarget Audience: Secretaries and/or district Student Records contact responsible for submission of the both building and district P-223.
URL:https://www.nwrdc.net/event/qmlativ-p223-state-reports-online-session-4/
LOCATION:Online Only
CATEGORIES:Student
END:VEVENT
END:VCALENDAR