BEGIN:VCALENDAR
VERSION:2.0
PRODID:-//NWRDC - ECPv6.15.19//NONSGML v1.0//EN
CALSCALE:GREGORIAN
METHOD:PUBLISH
X-ORIGINAL-URL:https://www.nwrdc.net
X-WR-CALDESC:Events for NWRDC
REFRESH-INTERVAL;VALUE=DURATION:PT1H
X-Robots-Tag:noindex
X-PUBLISHED-TTL:PT1H
BEGIN:VTIMEZONE
TZID:UTC
BEGIN:STANDARD
TZOFFSETFROM:+0000
TZOFFSETTO:+0000
TZNAME:UTC
DTSTART:20230101T000000
END:STANDARD
END:VTIMEZONE
BEGIN:VEVENT
DTSTART;VALUE=DATE:20240820
DTEND;VALUE=DATE:20240821
DTSTAMP:20260423T064502
CREATED:20240507T045606Z
LAST-MODIFIED:20240820T045601Z
UID:5263-1724112000-1724198399@www.nwrdc.net
SUMMARY:(169328) Discipline Entry & CEDARS Reporting SMS 2.0 - Online Session
DESCRIPTION:Description: During this 3.5 hour online Zoom session\, attendees will learn how to enter discipline records that meet State and Federal reporting requirements. The training includes adding offenses\, exclusionary and non-exclusionary actions\, HIB tracking and creating discipline reports. \nZoom Model:  This is a (hands-on style) ZOOM session (to fully participate users should have access to two screens – one to see the presenter’s screen and a second to have a screen to work in their data\, headset with Mic or speakers and mic on the computer). To ensure you receive the maximum benefit from your attendance\, please find a quiet place while attending this session allowing you to fully participate without interruption. \nTarget Audience: Discipline secretaries and Discipline officers responsible for the data entry and tracking of disciplinary referrals\, actions\, and follow-ups.   \nPrerequisite: Participants should review the New Users “Intro to Skyward Student Management” 50 minute video prior to attending this workshop. It can be found at https://www.nwrdc.net/student-team/documentation (https://www.nwrdc.net/student-team/documentation) Training Materials/*New Users.
URL:https://www.nwrdc.net/event/169328-discipline-entry-cedars-reporting-sms-2-0-online-session/
LOCATION:Online Only
CATEGORIES:Student
END:VEVENT
BEGIN:VEVENT
DTSTART;TZID=UTC:20240820T080000
DTEND;TZID=UTC:20240820T090000
DTSTAMP:20260423T064502
CREATED:20240711T072353Z
LAST-MODIFIED:20240820T072342Z
UID:5783-1724140800-1724144400@www.nwrdc.net
SUMMARY:(171685) SMS2Q Positions & Assignments - Online Session
DESCRIPTION:SMS2Q sessions allow users from districts migrating within the next 6-9 months to bring any questions they encountered when completing their Pre-Migration trainings on the designated topic. Users can obtain the Training Schedule from their Project Manager that details the various PDC courses\, documentation\, and video resources that are a prerequisite to attending this Q&A session.
URL:https://www.nwrdc.net/event/171685-sms2q-positions-assignments-online-session/
LOCATION:Online Only
CATEGORIES:HR/Payroll
END:VEVENT
BEGIN:VEVENT
DTSTART;TZID=UTC:20240820T100000
DTEND;TZID=UTC:20240820T110000
DTSTAMP:20260423T064502
CREATED:20240711T072418Z
LAST-MODIFIED:20240820T072409Z
UID:5788-1724148000-1724151600@www.nwrdc.net
SUMMARY:(171686) SMS2Q AR & General Inputs - Online Session
DESCRIPTION:SMS2Q sessions allow users from districts migrating within the next 6-9 months to bring any questions they encountered when completing their Pre-Migration trainings on the designated topic. Users can obtain the Training Schedule from their Project Manager that details the various PDC courses\, documentation\, and video resources that are a prerequisite to attending this Q&A session.
URL:https://www.nwrdc.net/event/171686-sms2q-ar-general-inputs-online-session/
LOCATION:Online Only
CATEGORIES:Finance
END:VEVENT
END:VCALENDAR