BEGIN:VCALENDAR
VERSION:2.0
PRODID:-//NWRDC - ECPv6.15.19//NONSGML v1.0//EN
CALSCALE:GREGORIAN
METHOD:PUBLISH
X-WR-CALNAME:NWRDC
X-ORIGINAL-URL:https://www.nwrdc.net
X-WR-CALDESC:Events for NWRDC
REFRESH-INTERVAL;VALUE=DURATION:PT1H
X-Robots-Tag:noindex
X-PUBLISHED-TTL:PT1H
BEGIN:VTIMEZONE
TZID:UTC
BEGIN:STANDARD
TZOFFSETFROM:+0000
TZOFFSETTO:+0000
TZNAME:UTC
DTSTART:20230101T000000
END:STANDARD
END:VTIMEZONE
BEGIN:VEVENT
DTSTART;VALUE=DATE:20240821
DTEND;VALUE=DATE:20240822
DTSTAMP:20260425T062207
CREATED:20240507T045606Z
LAST-MODIFIED:20240821T045635Z
UID:5264-1724198400-1724284799@www.nwrdc.net
SUMMARY:(169330) Basic Attendance SMS 2.0 - Online Session
DESCRIPTION:This 4 hour online Zoom session focuses on attendance routines\, attendance utilities and reporting options of the Attendance Module in SMS 2.0. Attendees will; view Attendance codes\, Calendar and Attendance configurations that may impact the ability to enter attendance. In addition\, attendees will\, view how a teacher takes attendance\, enter attendance for a class\, activity or range of students (large groups of students)\, or an individual student(s) and create templates for and run basic attendance information reports.  \nTarget Audience: Attendance secretaries \nPrerequisites : None
URL:https://www.nwrdc.net/event/169330-basic-attendance-sms-2-0-online-session/
LOCATION:Online Only
CATEGORIES:Student
END:VEVENT
BEGIN:VEVENT
DTSTART;VALUE=DATE:20240821
DTEND;VALUE=DATE:20240822
DTSTAMP:20260425T062207
CREATED:20240507T045606Z
LAST-MODIFIED:20240821T045635Z
UID:5265-1724198400-1724284799@www.nwrdc.net
SUMMARY:(169363) Qmlativ Grading Basics - Online Session
DESCRIPTION:During this online Zoom session\, we will present you with the basics of the grading module in Qmlativ. We will cover how to change a student’s grade by office staff\, adjusting earned and GPA credits\, extending a grading period (overview)\, as well as configuring grade change request settings for teachers\, grading administration (reviewing and approving grade change requests)\, and running grading reports such as Honor Roll\, Rank\, Selected Grades\, WA Transcript\, and processing Report cards.  \nTarget Audience: Middle School and High School Registrars\, secretaries\, and other office personnel responsible for entering grading information into the software.
URL:https://www.nwrdc.net/event/169363-qmlativ-grading-basics-online-session/
LOCATION:Online Only
CATEGORIES:Student
END:VEVENT
BEGIN:VEVENT
DTSTART;VALUE=DATE:20240821
DTEND;VALUE=DATE:20240822
DTSTAMP:20260425T062207
CREATED:20240507T045607Z
LAST-MODIFIED:20240821T045635Z
UID:5266-1724198400-1724284799@www.nwrdc.net
SUMMARY:(169364) Qmlativ Washington State Transcripts - Online Session
DESCRIPTION:During this online Zoom session\, we will focus on adding previous schools attended and entering different types of grades: Out of District Transfer Course and Alternative Credit Course grades. We will demonstrate entering Additional State Requirements\, Transcript Notes\, as well as tracking and printing Transcripts. \nTarget Audience: Building secretaries\, registrars and counselors that enter transcript information
URL:https://www.nwrdc.net/event/169364-qmlativ-washington-state-transcripts-online-session/
LOCATION:Online Only
CATEGORIES:Student
END:VEVENT
END:VCALENDAR