BEGIN:VCALENDAR
VERSION:2.0
PRODID:-//NWRDC - ECPv6.15.19//NONSGML v1.0//EN
CALSCALE:GREGORIAN
METHOD:PUBLISH
X-WR-CALNAME:NWRDC
X-ORIGINAL-URL:https://www.nwrdc.net
X-WR-CALDESC:Events for NWRDC
REFRESH-INTERVAL;VALUE=DURATION:PT1H
X-Robots-Tag:noindex
X-PUBLISHED-TTL:PT1H
BEGIN:VTIMEZONE
TZID:UTC
BEGIN:STANDARD
TZOFFSETFROM:+0000
TZOFFSETTO:+0000
TZNAME:UTC
DTSTART:20230101T000000
END:STANDARD
END:VTIMEZONE
BEGIN:VEVENT
DTSTART;VALUE=DATE:20240924
DTEND;VALUE=DATE:20240925
DTSTAMP:20260425T094756
CREATED:20240724T045732Z
LAST-MODIFIED:20240924T045600Z
UID:5894-1727166600-1727179200@www.nwrdc.net
SUMMARY:(172387) Attendance Letters Part 2 of 2 - Online Session
DESCRIPTION:This online workshop on the setup for attendance letters in SMS 2.0. Attendees will; briefly review day 1; necessary codes\, Thresholds\, Letter Attendance Types and Date Range Codes. Custom Attendance Letters (layout/merge) templates. Finally\, attendees will create Update Templates\, Letter Templates and Attendance Letter report templates. \nZoom Model:  This is a (hands-on style) ZOOM session (to fully participate users should  have access to two screens – one to see the presenter’s screen and a second to have a screen to work in their data\, headset with Mic or speakers and mic on the computer). \nTarget Audience: Attendance secretaries; BECCA/Discipline personnel \nPrerequisites : Completion of required homework (create/modify Custom Letters) from Day 1 training. \nCoRequisite : Attendance Letters Part 1 of 2
URL:https://www.nwrdc.net/event/172387-attendance-letters-part-2-of-2-online-session/
LOCATION:Online Only
CATEGORIES:Student
END:VEVENT
BEGIN:VEVENT
DTSTART;TZID=UTC:20240924T090000
DTEND;TZID=UTC:20240924T120000
DTSTAMP:20260425T094756
CREATED:20240830T072410Z
LAST-MODIFIED:20240924T072407Z
UID:6258-1727168400-1727179200@www.nwrdc.net
SUMMARY:(175129) SMS & Qmlativ F196 Year End Processing - Online Session
DESCRIPTION:This online lab will allow district staff to log into zoom for any questions or assistance needed for year end processing.  \nWho should attend: District staff responsible for preparing and transmitting the F196 Year End process to OSPI in both SMS and Qmlativ.
URL:https://www.nwrdc.net/event/175129-sms-qmlativ-f196-year-end-processing-online-session/
LOCATION:Online Only
CATEGORIES:Finance
END:VEVENT
BEGIN:VEVENT
DTSTART;VALUE=DATE:20240924
DTEND;VALUE=DATE:20240925
DTSTAMP:20260425T094756
CREATED:20240724T045732Z
LAST-MODIFIED:20240924T045601Z
UID:5895-1727184600-1727190000@www.nwrdc.net
SUMMARY:(172388) Attendance Letters Refresher - Online Session
DESCRIPTION:This 90 minute online workshop focuses on making the “minor” yearly adjustment to ALREADY ESTABLISHED attendance letters in SMS 2.0. Attendees will; review Date Range codes\, make minimal modifications to existing Custom Letters (phone#\, Admin and Staff names\, etc.)\, view/edit letter templates that create discipline and create new Attendance Letter Summary Report templates for the new year. Target Audience: Attendance secretaries; BECCA/Discipline personnel Prerequisite : Each District must have attendance letters ALREADY CREATED and users have utilized them during the previous year. This is a REFRESHER course to update already created letters for use in the upcoming new School Year.
URL:https://www.nwrdc.net/event/172388-attendance-letters-refresher-online-session/
LOCATION:Online Only
CATEGORIES:Student
END:VEVENT
END:VCALENDAR