BEGIN:VCALENDAR
VERSION:2.0
PRODID:-//NWRDC - ECPv6.15.19//NONSGML v1.0//EN
CALSCALE:GREGORIAN
METHOD:PUBLISH
X-WR-CALNAME:NWRDC
X-ORIGINAL-URL:https://www.nwrdc.net
X-WR-CALDESC:Events for NWRDC
REFRESH-INTERVAL;VALUE=DURATION:PT1H
X-Robots-Tag:noindex
X-PUBLISHED-TTL:PT1H
BEGIN:VTIMEZONE
TZID:UTC
BEGIN:STANDARD
TZOFFSETFROM:+0000
TZOFFSETTO:+0000
TZNAME:UTC
DTSTART:20240101T000000
END:STANDARD
END:VTIMEZONE
BEGIN:VEVENT
DTSTART;VALUE=DATE:20250403
DTEND;VALUE=DATE:20250404
DTSTAMP:20260423T112026
CREATED:20241112T192420Z
LAST-MODIFIED:20250403T072427Z
UID:6885-1743692400-1743696000@www.nwrdc.net
SUMMARY:(178767) SMS2Q Vendors & Purchasing - Online Session
DESCRIPTION:SMS2Q sessions allow users from districts migrating within the next 6-9 months to bring any questions they encountered when completing their Pre-Migration trainings on the designated topic. Users can obtain the Training Schedule from their Project Manager that details the various PDC courses\, documentation\, and video resources that are a prerequisite to attending this Q&A session.
URL:https://www.nwrdc.net/event/178767-sms2q-vendors-purchasing-online-session/
LOCATION:Online Only
CATEGORIES:Finance
END:VEVENT
BEGIN:VEVENT
DTSTART;VALUE=DATE:20250403
DTEND;VALUE=DATE:20250404
DTSTAMP:20260423T112026
CREATED:20241120T165803Z
LAST-MODIFIED:20241222T165742Z
UID:6991-1743696000-1743717600@www.nwrdc.net
SUMMARY:(178945) Future Year Part 3 Student Schedule Generation - Online Session
DESCRIPTION:This 5 hour online only training will take users through techniques to modify the Master Schedule using manual entry and the Interactive Scheduling Board. Users will learn to identify conflicts (course and student) and analyze the Master Schedule and Student Schedules through utilities and reports. Post-Scheduling utilities and reports will also be covered. Setup for Online Arena Scheduling may be covered (based on needs of class attendees).  \nPrincipal/Asst Principal/Decision Maker/Counselors responsible for building the Master Schedule; Counselor/Registrar/Counseling Secretary responsible for data entry and/or review of student and course data elements.
URL:https://www.nwrdc.net/event/178945-future-year-part-3-student-schedule-generation-online-session/
LOCATION:Online Only
CATEGORIES:Student
END:VEVENT
BEGIN:VEVENT
DTSTART;VALUE=DATE:20250410
DTEND;VALUE=DATE:20250411
DTSTAMP:20260423T112026
CREATED:20241113T072412Z
LAST-MODIFIED:20250410T072407Z
UID:6918-1744297200-1744300800@www.nwrdc.net
SUMMARY:(178778) SMS2Q AP & Credit Cards - Online Session
DESCRIPTION:SMS2Q sessions allow users from districts migrating within the next 6-9 months to bring any questions they encountered when completing their Pre-Migration trainings on the designated topic. Users can obtain the Training Schedule from their Project Manager that details the various PDC courses\, documentation\, and video resources that are a prerequisite to attending this Q&A session.
URL:https://www.nwrdc.net/event/178778-sms2q-ap-credit-cards-online-session/
LOCATION:Online Only
CATEGORIES:Finance
END:VEVENT
BEGIN:VEVENT
DTSTART;VALUE=DATE:20250410
DTEND;VALUE=DATE:20250411
DTSTAMP:20260423T112026
CREATED:20241113T072349Z
LAST-MODIFIED:20250410T072359Z
UID:6909-1744304400-1744308000@www.nwrdc.net
SUMMARY:(178783) SMS2Q Time Off - Online Session
DESCRIPTION:SMS2Q sessions allow users from districts migrating within the next 6-9 months to bring any questions they encountered when completing their Pre-Migration trainings on the designated topic. Users can obtain the Training Schedule from their Project Manager that details the various PDC courses\, documentation\, and video resources that are a prerequisite to attending this Q&A session.
URL:https://www.nwrdc.net/event/178783-sms2q-time-off-online-session/
LOCATION:Online Only
CATEGORIES:HR/Payroll
END:VEVENT
BEGIN:VEVENT
DTSTART;VALUE=DATE:20250414
DTEND;VALUE=DATE:20250415
DTSTAMP:20260423T112026
CREATED:20240727T072418Z
LAST-MODIFIED:20250414T072509Z
UID:5956-1744646400-1744657200@www.nwrdc.net
SUMMARY:(172639) FM Pre-Migration Clean-Up Lab - Online Session
DESCRIPTION:This month’s topic will be Accounts <a href="http://Payable. br/br/This" target="_blank" title="Payable.  \nThis”>Payable.  \nThis on-line workshop/lab offers a real-time opportunity to work collaboratively with NWRDC’s Pre-Migration Clean Up Team to discuss and resolve problematic data concerns in preparation for migration to Qmlativ..
URL:https://www.nwrdc.net/event/172639-fm-pre-migration-clean-up-lab-online-session/
LOCATION:Online Only
CATEGORIES:Finance
END:VEVENT
BEGIN:VEVENT
DTSTART;VALUE=DATE:20250414
DTEND;VALUE=DATE:20250415
DTSTAMP:20260423T112026
CREATED:20240802T192346Z
LAST-MODIFIED:20250414T192343Z
UID:6022-1744660800-1744664400@www.nwrdc.net
SUMMARY:(172962) HR/PR Pre-Migration Clean-Up Lab - Online Session
DESCRIPTION:This on-line workshop/lab offers a real-time opportunity to work collaboratively with NWRDC’s Pre-Migration Clean Up Team to discuss and resolve problematic data concerns in preparation for migration to Qmlativ.
URL:https://www.nwrdc.net/event/172962-hr-pr-pre-migration-clean-up-lab-online-session/
LOCATION:Online Only
CATEGORIES:HR/Payroll
END:VEVENT
BEGIN:VEVENT
DTSTART;VALUE=DATE:20250415
DTEND;VALUE=DATE:20250416
DTSTAMP:20260423T112026
CREATED:20241120T165803Z
LAST-MODIFIED:20241222T165742Z
UID:6992-1744732800-1744754400@www.nwrdc.net
SUMMARY:(178952) Future Year Part 3 Student Schedule Generation - Online Session
DESCRIPTION:This 5 hour online only training will take users through techniques to modify the Master Schedule using manual entry and the Interactive Scheduling Board. Users will learn to identify conflicts (course and student) and analyze the Master Schedule and Student Schedules through utilities and reports. Post-Scheduling utilities and reports will also be covered. Setup for Online Arena Scheduling may be covered (based on needs of class attendees).  \nPrincipal/Asst Principal/Decision Maker/Counselors responsible for building the Master Schedule; Counselor/Registrar/Counseling Secretary responsible for data entry and/or review of student and course data elements.
URL:https://www.nwrdc.net/event/178952-future-year-part-3-student-schedule-generation-online-session/
LOCATION:Online Only
CATEGORIES:Student
END:VEVENT
BEGIN:VEVENT
DTSTART;VALUE=DATE:20250416
DTEND;VALUE=DATE:20250417
DTSTAMP:20260423T112026
CREATED:20241022T072420Z
LAST-MODIFIED:20250416T072401Z
UID:6686-1744819200-1744837200@www.nwrdc.net
SUMMARY:(178062) Open SMS & Qmlativ HR/PR In-Person Lab - Everett
DESCRIPTION:This lab will provide both Payroll and Personnel staff with a place to work on monthly tasks and processes with a coordinator available to answer any questions that arise. Payroll and Personnel Employees\, especially those within the first year of hire or migration to Qmlativ\, would find this lab <a href="http://beneficial.br/br/br/br/Who" target="_blank" title="beneficial. \nWho”>beneficial. \nWho Should Attend: HR and Payroll Staff
URL:https://www.nwrdc.net/event/178062-open-sms-qmlativ-hr-pr-in-person-lab-everett/
LOCATION:Training Lab
CATEGORIES:HR/Payroll
END:VEVENT
BEGIN:VEVENT
DTSTART;VALUE=DATE:20250417
DTEND;VALUE=DATE:20250418
DTSTAMP:20260423T112026
CREATED:20241113T072412Z
LAST-MODIFIED:20250417T072417Z
UID:6919-1744902000-1744905600@www.nwrdc.net
SUMMARY:(178788) SMS2Q AR & General Inputs - Online Session
DESCRIPTION:SMS2Q sessions allow users from districts migrating within the next 6-9 months to bring any questions they encountered when completing their Pre-Migration trainings on the designated topic. Users can obtain the Training Schedule from their Project Manager that details the various PDC courses\, documentation\, and video resources that are a prerequisite to attending this Q&A session.
URL:https://www.nwrdc.net/event/178788-sms2q-ar-general-inputs-online-session/
LOCATION:Online Only
CATEGORIES:Finance
END:VEVENT
BEGIN:VEVENT
DTSTART;VALUE=DATE:20250417
DTEND;VALUE=DATE:20250418
DTSTAMP:20260423T112026
CREATED:20241113T072349Z
LAST-MODIFIED:20250417T072351Z
UID:6910-1744909200-1744912800@www.nwrdc.net
SUMMARY:(178799) SMS2Q Positions & Assignments - Online Session
DESCRIPTION:SMS2Q sessions allow users from districts migrating within the next 6-9 months to bring any questions they encountered when completing their Pre-Migration trainings on the designated topic. Users can obtain the Training Schedule from their Project Manager that details the various PDC courses\, documentation\, and video resources that are a prerequisite to attending this Q&A session.
URL:https://www.nwrdc.net/event/178799-sms2q-positions-assignments-online-session/
LOCATION:Online Only
CATEGORIES:HR/Payroll
END:VEVENT
BEGIN:VEVENT
DTSTART;VALUE=DATE:20250424
DTEND;VALUE=DATE:20250425
DTSTAMP:20260423T112026
CREATED:20240507T045610Z
LAST-MODIFIED:20241222T165742Z
UID:5285-1745508600-1745517600@www.nwrdc.net
SUMMARY:(169384) Student User Forum - Online Session
DESCRIPTION:The District Contacts User Forum meets monthly to review newly released features software updates tips for using the program effectively and the opportunity to share best business practices with <a href="http://peers.br/br/Target" target="_blank" title="peers. \nTarget”>peers. \nTarget Audience: District WESPaC Coordinators\, persons responsible for the SIS system at the district level.
URL:https://www.nwrdc.net/event/169384-student-user-forum-online-session/
LOCATION:Online Only
CATEGORIES:Student
END:VEVENT
BEGIN:VEVENT
DTSTART;VALUE=DATE:20250424
DTEND;VALUE=DATE:20250425
DTSTAMP:20260423T112026
CREATED:20241113T072349Z
LAST-MODIFIED:20250424T072341Z
UID:6911-1745514000-1745517600@www.nwrdc.net
SUMMARY:(178817) SMS2Q Employee Profile - Online Session
DESCRIPTION:SMS2Q sessions allow users from districts migrating within the next 6-9 months to bring any questions they encountered when completing their Pre-Migration trainings on the designated topic. Users can obtain the Training Schedule from their Project Manager that details the various PDC courses\, documentation\, and video resources that are a prerequisite to attending this Q&A session.
URL:https://www.nwrdc.net/event/178817-sms2q-employee-profile-online-session/
LOCATION:Online Only
CATEGORIES:HR/Payroll
END:VEVENT
BEGIN:VEVENT
DTSTART;VALUE=DATE:20250429
DTEND;VALUE=DATE:20250430
DTSTAMP:20260423T112026
CREATED:20241120T165804Z
LAST-MODIFIED:20241222T165742Z
UID:6993-1745942400-1745964000@www.nwrdc.net
SUMMARY:(178959) Future Year Part 3 Student Schedule Generation - Online Session
DESCRIPTION:This 5 hour online only training will take users through techniques to modify the Master Schedule using manual entry and the Interactive Scheduling Board. Users will learn to identify conflicts (course and student) and analyze the Master Schedule and Student Schedules through utilities and reports. Post-Scheduling utilities and reports will also be covered. Setup for Online Arena Scheduling may be covered (based on needs of class attendees).  \nPrincipal/Asst Principal/Decision Maker/Counselors responsible for building the Master Schedule; Counselor/Registrar/Counseling Secretary responsible for data entry and/or review of student and course data elements.
URL:https://www.nwrdc.net/event/178959-future-year-part-3-student-schedule-generation-online-session/
LOCATION:Online Only
CATEGORIES:Student
END:VEVENT
BEGIN:VEVENT
DTSTART;VALUE=DATE:20250430
DTEND;VALUE=DATE:20250501
DTSTAMP:20260423T112026
CREATED:20241120T165804Z
LAST-MODIFIED:20241222T165742Z
UID:6994-1746028800-1746039600@www.nwrdc.net
SUMMARY:(178968) Qmlativ Future Scheduling Part 3 - Mass Student Scheduling - Online Session
DESCRIPTION:Description:  This 3-hour\, online ZOOM session\, is for secondary entities that use the Mass Student Scheduling (auto scheduling) process to schedule students for Next Year. The expectation will be that students will have course requests and the initial Master Schedule will be in place (including sections and meets). Users will learn how to run the Mass Student Scheduler to analyze the Master Schedule and identify conflicts. Various scheduling tools will be identified to assist in the master schedule analysis and complete the student scheduling process. Post scheduling reports and processes will also be <a href="http://demonstrated.br/br/ Zoom" target="_blank" title="demonstrated. \n Zoom”>demonstrated. \n Zoom Model:  For this ZOOM session (to fully participate we recommend having a headset with Mic or speakers and mic on the computer)\, and to ensure you receive the maximum benefit from your attendance\, please find a quiet place while attending this session allowing you to fully participate without <a href="http://interruption.br/br/Target" target="_blank" title="interruption. \nTarget”>interruption. \nTarget Audience: Administrative staff responsible scheduling students and master schedule decision making (e.g.\, Counseling Secretary\, Counselors\, Principals).
URL:https://www.nwrdc.net/event/178968-qmlativ-future-scheduling-part-3-mass-student-scheduling-online-session/
LOCATION:Online Only
CATEGORIES:Student
END:VEVENT
END:VCALENDAR