BEGIN:VCALENDAR
VERSION:2.0
PRODID:-//NWRDC - ECPv6.15.19//NONSGML v1.0//EN
CALSCALE:GREGORIAN
METHOD:PUBLISH
X-WR-CALNAME:NWRDC
X-ORIGINAL-URL:https://www.nwrdc.net
X-WR-CALDESC:Events for NWRDC
REFRESH-INTERVAL;VALUE=DURATION:PT1H
X-Robots-Tag:noindex
X-PUBLISHED-TTL:PT1H
BEGIN:VTIMEZONE
TZID:UTC
BEGIN:STANDARD
TZOFFSETFROM:+0000
TZOFFSETTO:+0000
TZNAME:UTC
DTSTART:20240101T000000
END:STANDARD
END:VTIMEZONE
BEGIN:VEVENT
DTSTART;VALUE=DATE:20250804
DTEND;VALUE=DATE:20250805
DTSTAMP:20260423T024027
CREATED:20240804T072345Z
LAST-MODIFIED:20250804T192341Z
UID:6036-1754265600-1754341200@www.nwrdc.net
SUMMARY:(172970) HR/PR Pre-Migration Clean-Up Lab - Online Session
DESCRIPTION:This on-line workshop/lab offers a real-time opportunity to work collaboratively with NWRDC’s Pre-Migration Clean Up Team to discuss and resolve problematic data concerns in preparation for migration to Qmlativ.
URL:https://www.nwrdc.net/event/172970-hr-pr-pre-migration-clean-up-lab-online-session/
LOCATION:Online Only
CATEGORIES:HR/Payroll
END:VEVENT
BEGIN:VEVENT
DTSTART;VALUE=DATE:20250804
DTEND;VALUE=DATE:20250805
DTSTAMP:20260423T024027
CREATED:20240804T072412Z
LAST-MODIFIED:20250804T072408Z
UID:6038-1754265600-1754334000@www.nwrdc.net
SUMMARY:(172645) FM Pre-Migration Clean-Up Lab - Online Session
DESCRIPTION:This month’s topic will be AR\, Inventory\, Fixed <a href="http://Assets.br/br/This" target="_blank" title="Assets. \nThis”>Assets. \nThis on-line workshop/lab offers a real-time opportunity to work collaboratively with NWRDC’s Pre-Migration Clean Up Team to discuss and resolve problematic data concerns in preparation for migration to Qmlativ..
URL:https://www.nwrdc.net/event/172645-fm-pre-migration-clean-up-lab-online-session/
LOCATION:Online Only
CATEGORIES:Finance
END:VEVENT
BEGIN:VEVENT
DTSTART;TZID=UTC:20250807T150000
DTEND;TZID=UTC:20250807T160000
DTSTAMP:20260423T024027
CREATED:20250401T192411Z
LAST-MODIFIED:20250807T072409Z
UID:7822-1754578800-1754582400@www.nwrdc.net
SUMMARY:(186089) SMS2Q Vendors & Purchasing - Online Session
DESCRIPTION:SMS2Q sessions allow users from districts migrating within the next 6-9 months to bring any questions they encountered when completing their Pre-Migration trainings on the designated topic. Users can obtain the Training Schedule from their Project Manager that details the various PDC courses\, documentation\, and video resources that are a prerequisite to attending this Q&A session.
URL:https://www.nwrdc.net/event/186089-sms2q-vendors-purchasing-online-session/
LOCATION:Online Only
CATEGORIES:Finance
END:VEVENT
BEGIN:VEVENT
DTSTART;VALUE=DATE:20250813
DTEND;VALUE=DATE:20250814
DTSTAMP:20260423T024027
CREATED:20241022T072422Z
LAST-MODIFIED:20250813T072344Z
UID:6690-1755100800-1755118800@www.nwrdc.net
SUMMARY:(178071) Open SMS & Qmlativ HR/PR In-Person Lab - North
DESCRIPTION:This lab will provide both Payroll and Personnel staff with a place to work on monthly tasks and processes with a coordinator available to answer any questions that arise. Payroll and Personnel Employees\, especially those within the first year of hire or migration to Qmlativ\, would find this lab <a href="http://beneficial.br/br/br/br/Who" target="_blank" title="beneficial. \nWho”>beneficial. \nWho Should Attend:HR and Payroll Staff
URL:https://www.nwrdc.net/event/178071-open-sms-qmlativ-hr-pr-in-person-lab-north/
LOCATION:Bellingham SD
CATEGORIES:HR/Payroll
END:VEVENT
BEGIN:VEVENT
DTSTART;TZID=UTC:20250814T150000
DTEND;TZID=UTC:20250814T160000
DTSTAMP:20260423T024027
CREATED:20250401T192411Z
LAST-MODIFIED:20250814T072409Z
UID:7823-1755183600-1755187200@www.nwrdc.net
SUMMARY:(186098) SMS2Q AP & Credit Cards - Online Session
DESCRIPTION:SMS2Q sessions allow users from districts migrating within the next 6-9 months to bring any questions they encountered when completing their Pre-Migration trainings on the designated topic. Users can obtain the Training Schedule from their Project Manager that details the various PDC courses\, documentation\, and video resources that are a prerequisite to attending this Q&A session.
URL:https://www.nwrdc.net/event/186098-sms2q-ap-credit-cards-online-session/
LOCATION:Online Only
CATEGORIES:Finance
END:VEVENT
BEGIN:VEVENT
DTSTART;TZID=UTC:20250814T170000
DTEND;TZID=UTC:20250814T180000
DTSTAMP:20260423T024027
CREATED:20250401T192344Z
LAST-MODIFIED:20250814T072342Z
UID:7809-1755190800-1755194400@www.nwrdc.net
SUMMARY:(186102) SMS2Q Time Off - Online Session
DESCRIPTION:SMS2Q sessions allow users from districts migrating within the next 6-9 months to bring any questions they encountered when completing their Pre-Migration trainings on the designated topic. Users can obtain the Training Schedule from their Project Manager that details the various PDC courses\, documentation\, and video resources that are a prerequisite to attending this Q&A session.
URL:https://www.nwrdc.net/event/186102-sms2q-time-off-online-session/
LOCATION:Online Only
CATEGORIES:HR/Payroll
END:VEVENT
BEGIN:VEVENT
DTSTART;TZID=UTC:20250819T160000
DTEND;TZID=UTC:20250819T180000
DTSTAMP:20260423T024027
CREATED:20250514T072409Z
LAST-MODIFIED:20250819T072409Z
UID:8111-1755619200-1755626400@www.nwrdc.net
SUMMARY:(187234) Qmlativ Year End Processing/F196 - Online Session
DESCRIPTION:This workshop will help you prepare the Annual Financial Statement (F-196) and perform the Year End Roll in Qmlativ..
URL:https://www.nwrdc.net/event/187234-qmlativ-year-end-processing-f196-online-session/
LOCATION:Online Only
CATEGORIES:Finance
END:VEVENT
BEGIN:VEVENT
DTSTART;TZID=UTC:20250821T150000
DTEND;TZID=UTC:20250821T160000
DTSTAMP:20260423T024027
CREATED:20250401T192412Z
LAST-MODIFIED:20250821T072409Z
UID:7824-1755788400-1755792000@www.nwrdc.net
SUMMARY:(186106) SMS2Q AR & General Inputs - Online Session
DESCRIPTION:SMS2Q sessions allow users from districts migrating within the next 6-9 months to bring any questions they encountered when completing their Pre-Migration trainings on the designated topic. Users can obtain the Training Schedule from their Project Manager that details the various PDC courses\, documentation\, and video resources that are a prerequisite to attending this Q&A session.
URL:https://www.nwrdc.net/event/186106-sms2q-ar-general-inputs-online-session/
LOCATION:Online Only
CATEGORIES:Finance
END:VEVENT
BEGIN:VEVENT
DTSTART;TZID=UTC:20250821T170000
DTEND;TZID=UTC:20250821T180000
DTSTAMP:20260423T024027
CREATED:20250401T192345Z
LAST-MODIFIED:20250821T072344Z
UID:7810-1755795600-1755799200@www.nwrdc.net
SUMMARY:(186110) SMS2Q Positions & Assignments - Online Session
DESCRIPTION:SMS2Q sessions allow users from districts migrating within the next 6-9 months to bring any questions they encountered when completing their Pre-Migration trainings on the designated topic. Users can obtain the Training Schedule from their Project Manager that details the various PDC courses\, documentation\, and video resources that are a prerequisite to attending this Q&A session.
URL:https://www.nwrdc.net/event/186110-sms2q-positions-assignments-online-session/
LOCATION:Online Only
CATEGORIES:HR/Payroll
END:VEVENT
BEGIN:VEVENT
DTSTART;TZID=UTC:20250828T170000
DTEND;TZID=UTC:20250828T180000
DTSTAMP:20260423T024027
CREATED:20250401T192345Z
LAST-MODIFIED:20250828T072343Z
UID:7811-1756400400-1756404000@www.nwrdc.net
SUMMARY:(186085) SMS2Q Employee Profile - Online Session
DESCRIPTION:SMS2Q sessions allow users from districts migrating within the next 6-9 months to bring any questions they encountered when completing their Pre-Migration trainings on the designated topic. Users can obtain the Training Schedule from their Project Manager that details the various PDC courses\, documentation\, and video resources that are a prerequisite to attending this Q&A session.
URL:https://www.nwrdc.net/event/186085-sms2q-employee-profile-online-session/
LOCATION:Online Only
CATEGORIES:HR/Payroll
END:VEVENT
END:VCALENDAR