BEGIN:VCALENDAR
VERSION:2.0
PRODID:-//NWRDC - ECPv6.15.19//NONSGML v1.0//EN
CALSCALE:GREGORIAN
METHOD:PUBLISH
X-WR-CALNAME:NWRDC
X-ORIGINAL-URL:https://www.nwrdc.net
X-WR-CALDESC:Events for NWRDC
REFRESH-INTERVAL;VALUE=DURATION:PT1H
X-Robots-Tag:noindex
X-PUBLISHED-TTL:PT1H
BEGIN:VTIMEZONE
TZID:UTC
BEGIN:STANDARD
TZOFFSETFROM:+0000
TZOFFSETTO:+0000
TZNAME:UTC
DTSTART:20250101T000000
END:STANDARD
END:VTIMEZONE
BEGIN:VEVENT
DTSTART;TZID=UTC:20260702T150000
DTEND;TZID=UTC:20260702T160000
DTSTAMP:20260424T030515
CREATED:20251209T192433Z
LAST-MODIFIED:20260424T072407Z
UID:9308-1783004400-1783008000@www.nwrdc.net
SUMMARY:(197054) SMS BUS OL: SMS2Q Vendors & Purchasing - Online Session
DESCRIPTION:SMS2Q sessions allow users from districts migrating within the next 6-9 months to bring any questions they encountered when completing their Pre-Migration trainings on the designated topic. Users can obtain the Training Schedule from their Project Manager that details the various PDC courses\, documentation\, and video resources that are a prerequisite to attending this Q&A session.
URL:https://www.nwrdc.net/event/197054-sms-bus-ol-sms2q-vendors-purchasing-online-session/
LOCATION:Online Only
CATEGORIES:Finance
END:VEVENT
BEGIN:VEVENT
DTSTART;TZID=UTC:20260709T150000
DTEND;TZID=UTC:20260709T160000
DTSTAMP:20260424T030515
CREATED:20251210T192411Z
LAST-MODIFIED:20260424T072407Z
UID:9342-1783609200-1783612800@www.nwrdc.net
SUMMARY:(197149) SMS BUS OL: SMS2Q AP & Credit Cards - Online Session
DESCRIPTION:SMS2Q sessions allow users from districts migrating within the next 6-9 months to bring any questions they encountered when completing their Pre-Migration trainings on the designated topic. Users can obtain the Training Schedule from their Project Manager that details the various PDC courses\, documentation\, and video resources that are a prerequisite to attending this Q&A session.
URL:https://www.nwrdc.net/event/197149-sms-bus-ol-sms2q-ap-credit-cards-online-session/
LOCATION:Online Only
CATEGORIES:Finance
END:VEVENT
BEGIN:VEVENT
DTSTART;TZID=UTC:20260709T170000
DTEND;TZID=UTC:20260709T180000
DTSTAMP:20260424T030515
CREATED:20251210T072344Z
LAST-MODIFIED:20260424T072402Z
UID:9317-1783616400-1783620000@www.nwrdc.net
SUMMARY:(197104) SMS BUS OL: SMS2Q Time Off - Online Session
DESCRIPTION:SMS2Q sessions allow users from districts migrating within the next 6-9 months to bring any questions they encountered when completing their Pre-Migration trainings on the designated topic. Users can obtain the Training Schedule from their Project Manager that details the various PDC courses\, documentation\, and video resources that are a prerequisite to attending this Q&A session.
URL:https://www.nwrdc.net/event/197104-sms-bus-ol-sms2q-time-off-online-session/
LOCATION:Online Only
CATEGORIES:HR/Payroll
END:VEVENT
BEGIN:VEVENT
DTSTART;TZID=UTC:20260713T160000
DTEND;TZID=UTC:20260713T180000
DTSTAMP:20260424T030515
CREATED:20250713T072412Z
LAST-MODIFIED:20260424T072407Z
UID:8444-1783958400-1783965600@www.nwrdc.net
SUMMARY:(186649) FM Pre-Migration Clean-Up Lab - Online Session
DESCRIPTION:This month’s topic will be <a href="http://Purchasing.br/br/This" target="_blank" title="Purchasing. \nThis”>Purchasing. \nThis on-line workshop/lab offers a real-time opportunity to work collaboratively with NWRDC’s Pre-Migration Clean Up Team to discuss and resolve problematic data concerns in preparation for migration to Qmlativ..
URL:https://www.nwrdc.net/event/186649-fm-pre-migration-clean-up-lab-online-session/
LOCATION:Online Only
CATEGORIES:Finance
END:VEVENT
BEGIN:VEVENT
DTSTART;TZID=UTC:20260713T200000
DTEND;TZID=UTC:20260713T220000
DTSTAMP:20260424T030515
CREATED:20250822T192406Z
LAST-MODIFIED:20260424T072402Z
UID:8679-1783972800-1783980000@www.nwrdc.net
SUMMARY:(192287) HR/PR Pre-Migration Clean-Up Lab - Online Session
DESCRIPTION:“This month’s topics will be: \n  •  Task 1301 – Employee Profile/Blank Start Dates \n  •  Tasks 1230 – Time Off/Time Off Clean-Up \n  •  Task 1250 – Time Off/Reason Codes \n  •  Task 1240 – Configuration/Federal EIN Number \nThis on-line workshop/lab offers a real-time opportunity to work collaboratively with NWRDC’s Pre-Migration Clean Up Team to discuss and resolve problematic data concerns in preparation for migration to Qmlativ.”
URL:https://www.nwrdc.net/event/192287-hr-pr-pre-migration-clean-up-lab-online-session/
LOCATION:Online Only
CATEGORIES:HR/Payroll
END:VEVENT
BEGIN:VEVENT
DTSTART;TZID=UTC:20260714T160000
DTEND;TZID=UTC:20260714T220000
DTSTAMP:20260424T030515
CREATED:20250917T072347Z
LAST-MODIFIED:20260424T072402Z
UID:8829-1784044800-1784066400@www.nwrdc.net
SUMMARY:(193899) ALL BUS IP: Open HR PR Lab - North
DESCRIPTION:This lab will provide both Payroll and Personnel staff with a place to work on monthly tasks and processes with a coordinator available to answer any questions that arise. Payroll and Personnel Employees\, especially those within the first year of hire or migration to Qmlativ\, would find this lab <a href="http://beneficial.br/br/br/br/Who" target="_blank" title="beneficial. \nWho”>beneficial. \nWho Should Attend:HR and Payroll Staff
URL:https://www.nwrdc.net/event/193899-all-bus-ip-open-hr-pr-lab-north/
LOCATION:Room 203\, Bellingham
CATEGORIES:HR/Payroll
END:VEVENT
BEGIN:VEVENT
DTSTART;TZID=UTC:20260716T150000
DTEND;TZID=UTC:20260716T160000
DTSTAMP:20260424T030515
CREATED:20251210T192411Z
LAST-MODIFIED:20260424T072407Z
UID:9343-1784214000-1784217600@www.nwrdc.net
SUMMARY:(197141) SMS BUS OL: SMS2Q AR & General Inputs - Online Session
DESCRIPTION:SMS2Q sessions allow users from districts migrating within the next 6-9 months to bring any questions they encountered when completing their Pre-Migration trainings on the designated topic. Users can obtain the Training Schedule from their Project Manager that details the various PDC courses\, documentation\, and video resources that are a prerequisite to attending this Q&A session.
URL:https://www.nwrdc.net/event/197141-sms-bus-ol-sms2q-ar-general-inputs-online-session/
LOCATION:Online Only
CATEGORIES:Finance
END:VEVENT
BEGIN:VEVENT
DTSTART;TZID=UTC:20260716T170000
DTEND;TZID=UTC:20260716T180000
DTSTAMP:20260424T030515
CREATED:20251210T192347Z
LAST-MODIFIED:20260424T072402Z
UID:9327-1784221200-1784224800@www.nwrdc.net
SUMMARY:(197133) SMS BUS OL: SMS2Q Positions & Assignments - Online Session
DESCRIPTION:SMS2Q sessions allow users from districts migrating within the next 6-9 months to bring any questions they encountered when completing their Pre-Migration trainings on the designated topic. Users can obtain the Training Schedule from their Project Manager that details the various PDC courses\, documentation\, and video resources that are a prerequisite to attending this Q&A session.
URL:https://www.nwrdc.net/event/197133-sms-bus-ol-sms2q-positions-assignments-online-session/
LOCATION:Online Only
CATEGORIES:HR/Payroll
END:VEVENT
BEGIN:VEVENT
DTSTART;TZID=UTC:20260723T170000
DTEND;TZID=UTC:20260723T180000
DTSTAMP:20260424T030515
CREATED:20251209T192427Z
LAST-MODIFIED:20260424T072402Z
UID:9300-1784826000-1784829600@www.nwrdc.net
SUMMARY:(197044) SMS BUS OL: SMS2Q Employee Profile - Online Session
DESCRIPTION:SMS2Q sessions allow users from districts migrating within the next 6-9 months to bring any questions they encountered when completing their Pre-Migration trainings on the designated topic. Users can obtain the Training Schedule from their Project Manager that details the various PDC courses\, documentation\, and video resources that are a prerequisite to attending this Q&A session.
URL:https://www.nwrdc.net/event/197044-sms-bus-ol-sms2q-employee-profile-online-session/
LOCATION:Online Only
CATEGORIES:HR/Payroll
END:VEVENT
END:VCALENDAR