BEGIN:VCALENDAR
VERSION:2.0
PRODID:-//NWRDC - ECPv6.15.19//NONSGML v1.0//EN
CALSCALE:GREGORIAN
METHOD:PUBLISH
X-WR-CALNAME:NWRDC
X-ORIGINAL-URL:https://www.nwrdc.net
X-WR-CALDESC:Events for NWRDC
REFRESH-INTERVAL;VALUE=DURATION:PT1H
X-Robots-Tag:noindex
X-PUBLISHED-TTL:PT1H
BEGIN:VTIMEZONE
TZID:UTC
BEGIN:STANDARD
TZOFFSETFROM:+0000
TZOFFSETTO:+0000
TZNAME:UTC
DTSTART:20240101T000000
END:STANDARD
END:VTIMEZONE
BEGIN:VEVENT
DTSTART;VALUE=DATE:20250306
DTEND;VALUE=DATE:20250307
DTSTAMP:20260423T163506
CREATED:20241112T192420Z
LAST-MODIFIED:20250306T072407Z
UID:6884-1741276800-1741280400@www.nwrdc.net
SUMMARY:(178765) SMS2Q Vendors & Purchasing - Online Session
DESCRIPTION:SMS2Q sessions allow users from districts migrating within the next 6-9 months to bring any questions they encountered when completing their Pre-Migration trainings on the designated topic. Users can obtain the Training Schedule from their Project Manager that details the various PDC courses\, documentation\, and video resources that are a prerequisite to attending this Q&A session.
URL:https://www.nwrdc.net/event/178765-sms2q-vendors-purchasing-online-session/
LOCATION:Online Only
CATEGORIES:Finance
END:VEVENT
BEGIN:VEVENT
DTSTART;VALUE=DATE:20250306
DTEND;VALUE=DATE:20250307
DTSTAMP:20260423T163506
CREATED:20241120T165802Z
LAST-MODIFIED:20241222T165742Z
UID:6987-1741280400-1741293000@www.nwrdc.net
SUMMARY:(178926) Future Scheduling Part 2 -Request Processing Setup - Online Session
DESCRIPTION:This 3.5 hour online only training will take users through entering\, analyzing\, and cleaning student requests using mass entry\, hand entry\, and online entry techniques. Additional content covered may include Block Courses\, Scheduling Teams\, Scheduling Categories\, and Online Request Processing setup (based on needs of class attendees). Review of necessary steps to move to Future Year Student Schedule Generation (next class in series) will be <a href="http://covered. br/br/Counselor/Registrar/Counseling" target="_blank" title="covered.  \nCounselor/Registrar/Counseling”>covered.  \nCounselor/Registrar/Counseling Secretary responsible for data entry and review of requests for <a href="http://students.br/br/Class" target="_blank" title="students. \nClass”>students. \nClass has an optional 1.5 hour working session for users to work on their student requests and/or setup
URL:https://www.nwrdc.net/event/178926-future-scheduling-part-2-request-processing-setup-online-session/
LOCATION:Online Only
CATEGORIES:Student
END:VEVENT
END:VCALENDAR