BEGIN:VCALENDAR
VERSION:2.0
PRODID:-//NWRDC - ECPv6.15.19//NONSGML v1.0//EN
CALSCALE:GREGORIAN
METHOD:PUBLISH
X-WR-CALNAME:NWRDC
X-ORIGINAL-URL:https://www.nwrdc.net
X-WR-CALDESC:Events for NWRDC
REFRESH-INTERVAL;VALUE=DURATION:PT1H
X-Robots-Tag:noindex
X-PUBLISHED-TTL:PT1H
BEGIN:VTIMEZONE
TZID:UTC
BEGIN:STANDARD
TZOFFSETFROM:+0000
TZOFFSETTO:+0000
TZNAME:UTC
DTSTART:20240101T000000
END:STANDARD
END:VTIMEZONE
BEGIN:VEVENT
DTSTART;VALUE=DATE:20250416
DTEND;VALUE=DATE:20250417
DTSTAMP:20260423T140754
CREATED:20241022T072420Z
LAST-MODIFIED:20250416T072401Z
UID:6686-1744819200-1744837200@www.nwrdc.net
SUMMARY:(178062) Open SMS & Qmlativ HR/PR In-Person Lab - Everett
DESCRIPTION:This lab will provide both Payroll and Personnel staff with a place to work on monthly tasks and processes with a coordinator available to answer any questions that arise. Payroll and Personnel Employees\, especially those within the first year of hire or migration to Qmlativ\, would find this lab <a href="http://beneficial.br/br/br/br/Who" target="_blank" title="beneficial. \nWho”>beneficial. \nWho Should Attend: HR and Payroll Staff
URL:https://www.nwrdc.net/event/178062-open-sms-qmlativ-hr-pr-in-person-lab-everett/
LOCATION:Training Lab
CATEGORIES:HR/Payroll
END:VEVENT
END:VCALENDAR