BEGIN:VCALENDAR
VERSION:2.0
PRODID:-//NWRDC - ECPv6.15.19//NONSGML v1.0//EN
CALSCALE:GREGORIAN
METHOD:PUBLISH
X-WR-CALNAME:NWRDC
X-ORIGINAL-URL:https://www.nwrdc.net
X-WR-CALDESC:Events for NWRDC
REFRESH-INTERVAL;VALUE=DURATION:PT1H
X-Robots-Tag:noindex
X-PUBLISHED-TTL:PT1H
BEGIN:VTIMEZONE
TZID:UTC
BEGIN:STANDARD
TZOFFSETFROM:+0000
TZOFFSETTO:+0000
TZNAME:UTC
DTSTART:20240101T000000
END:STANDARD
END:VTIMEZONE
BEGIN:VEVENT
DTSTART;TZID=UTC:20250515T150000
DTEND;TZID=UTC:20250515T160000
DTSTAMP:20260423T152540
CREATED:20250401T192409Z
LAST-MODIFIED:20250515T072407Z
UID:7815-1747321200-1747324800@www.nwrdc.net
SUMMARY:(186103) SMS2Q AR & General Inputs - Online Session
DESCRIPTION:SMS2Q sessions allow users from districts migrating within the next 6-9 months to bring any questions they encountered when completing their Pre-Migration trainings on the designated topic. Users can obtain the Training Schedule from their Project Manager that details the various PDC courses\, documentation\, and video resources that are a prerequisite to attending this Q&A session.
URL:https://www.nwrdc.net/event/186103-sms2q-ar-general-inputs-online-session/
LOCATION:Online Only
CATEGORIES:Finance
END:VEVENT
BEGIN:VEVENT
DTSTART;VALUE=DATE:20250515
DTEND;VALUE=DATE:20250516
DTSTAMP:20260423T152540
CREATED:20241112T045804Z
LAST-MODIFIED:20241222T165742Z
UID:6870-1747324800-1747332000@www.nwrdc.net
SUMMARY:(178731) Secondary School Counselors User Forum - Online Session
DESCRIPTION:Join the Secondary School Counselors Users’ Forum to learn of newly released features\, tips for using the program more effectively and an opportunity to share with others using the Skyward software. Best practices in modules such as Current Year Scheduling\, Grad Requirements\, Student Demographics\, Response to Interventions\, and <a href="http://reporting.br/br/Reserved" target="_blank" title="reporting. \nReserved”>reporting. \nReserved for Secondary School Counselors.
URL:https://www.nwrdc.net/event/178731-secondary-school-counselors-user-forum-online-session/
LOCATION:Online Only
CATEGORIES:Student
END:VEVENT
BEGIN:VEVENT
DTSTART;TZID=UTC:20250515T170000
DTEND;TZID=UTC:20250515T180000
DTSTAMP:20260423T152540
CREATED:20250401T192342Z
LAST-MODIFIED:20250515T072341Z
UID:7801-1747328400-1747332000@www.nwrdc.net
SUMMARY:(186107) SMS2Q Positions & Assignments - Online Session
DESCRIPTION:SMS2Q sessions allow users from districts migrating within the next 6-9 months to bring any questions they encountered when completing their Pre-Migration trainings on the designated topic. Users can obtain the Training Schedule from their Project Manager that details the various PDC courses\, documentation\, and video resources that are a prerequisite to attending this Q&A session.
URL:https://www.nwrdc.net/event/186107-sms2q-positions-assignments-online-session/
LOCATION:Online Only
CATEGORIES:HR/Payroll
END:VEVENT
END:VCALENDAR