BEGIN:VCALENDAR
VERSION:2.0
PRODID:-//NWRDC - ECPv6.15.19//NONSGML v1.0//EN
CALSCALE:GREGORIAN
METHOD:PUBLISH
X-ORIGINAL-URL:https://www.nwrdc.net
X-WR-CALDESC:Events for NWRDC
REFRESH-INTERVAL;VALUE=DURATION:PT1H
X-Robots-Tag:noindex
X-PUBLISHED-TTL:PT1H
BEGIN:VTIMEZONE
TZID:UTC
BEGIN:STANDARD
TZOFFSETFROM:+0000
TZOFFSETTO:+0000
TZNAME:UTC
DTSTART:20240101T000000
END:STANDARD
END:VTIMEZONE
BEGIN:VEVENT
DTSTART;TZID=UTC:20250617T150000
DTEND;TZID=UTC:20250617T180000
DTSTAMP:20260423T095200
CREATED:20250529T072343Z
LAST-MODIFIED:20250617T072342Z
UID:8196-1750172400-1750183200@www.nwrdc.net
SUMMARY:(187675) Qmlativ Year End in Human Resources\, Payroll\, Time Off - Newly Migrated Districts
DESCRIPTION:This session will guide you through the key steps required to prepare district data for the new fiscal year. We’ll begin with the Human Resources Year End utilities in the Year End module\, including the process of moving positions and assignments from staff planning into the new year. Next\, we’ll walk through July–June contract preparation and review important code updates. From there\, we’ll cover the validation of new year data\, along with any additional setup procedures needed for Payroll and Time Off for the new fiscal <a href="http://year.br/br/br/br/Target" target="_blank" title="year. \nTarget”>year. \nTarget Audience: This workshop is intended for districts that are newly migrated as of 24-25\, and is geared toward Human Resources and Payroll staff responsible for preparing\, cleaning up\, and creating new year data.
URL:https://www.nwrdc.net/event/187675-qmlativ-year-end-in-human-resources-payroll-time-off-newly-migrated-districts/
LOCATION:Online Only
CATEGORIES:HR/Payroll
END:VEVENT
BEGIN:VEVENT
DTSTART;VALUE=DATE:20250617
DTEND;VALUE=DATE:20250618
DTSTAMP:20260423T095200
CREATED:20241008T192437Z
LAST-MODIFIED:20250617T072407Z
UID:6575-1750176000-1750186800@www.nwrdc.net
SUMMARY:(177582) FM Budgeting Lab -  SMS & Qmlativ
DESCRIPTION:The purpose of this lab is to provide a place for districts to come and get support with anything related to fiscal budgeting including crosswalks\, F-195 extracts\, moving accounts between budget processes\, and more. This session is for both SMS 2.0 and Qmlativ districts and will be done via Zoom. The Zoom room will be open from 9:00am – 12:00pm for you to come in and get the help you <a href="http://need.br/br/br/br/Target" target="_blank" title="need. \nTarget”>need. \nTarget Audience: District Office Staff responsible for preparing and transmitting financial and personnel budget data to OSPI for the F-195 report.
URL:https://www.nwrdc.net/event/177582-fm-budgeting-lab-sms-qmlativ/
LOCATION:Online Only
CATEGORIES:Finance
END:VEVENT
BEGIN:VEVENT
DTSTART;TZID=UTC:20250617T190000
DTEND;TZID=UTC:20250617T210000
DTSTAMP:20260423T095200
CREATED:20250529T072343Z
LAST-MODIFIED:20250617T072342Z
UID:8197-1750186800-1750194000@www.nwrdc.net
SUMMARY:(187676) Qmlativ Year End in Human Resources\, Payroll\, Time Off
DESCRIPTION:This session will guide you through the key steps required to prepare district data for the new fiscal year. We’ll begin with the Human Resources Year End utilities in the Year End module\, including the process of moving positions and assignments from staff planning into the new year. Next\, we’ll walk through July–June contract preparation and review important code updates. From there\, we’ll cover the validation of new year data\, along with any additional setup procedures needed for Payroll and Time Off for the new fiscal <a href="http://year.br/br/br/br/Target" target="_blank" title="year. \nTarget”>year. \nTarget Audience: This workshop is intended for districts that are not newly migrated\, and is geared toward Human Resources and Payroll staff responsible for preparing\, cleaning up\, and creating new year data.
URL:https://www.nwrdc.net/event/187676-qmlativ-year-end-in-human-resources-payroll-time-off/
LOCATION:Online Only
CATEGORIES:HR/Payroll
END:VEVENT
END:VCALENDAR