BEGIN:VCALENDAR
VERSION:2.0
PRODID:-//NWRDC - ECPv6.15.19//NONSGML v1.0//EN
CALSCALE:GREGORIAN
METHOD:PUBLISH
X-WR-CALNAME:NWRDC
X-ORIGINAL-URL:https://www.nwrdc.net
X-WR-CALDESC:Events for NWRDC
REFRESH-INTERVAL;VALUE=DURATION:PT1H
X-Robots-Tag:noindex
X-PUBLISHED-TTL:PT1H
BEGIN:VTIMEZONE
TZID:UTC
BEGIN:STANDARD
TZOFFSETFROM:+0000
TZOFFSETTO:+0000
TZNAME:UTC
DTSTART:20240101T000000
END:STANDARD
END:VTIMEZONE
BEGIN:VEVENT
DTSTART;VALUE=DATE:20250627
DTEND;VALUE=DATE:20250628
DTSTAMP:20260423T140541
CREATED:20241008T192438Z
LAST-MODIFIED:20250627T192409Z
UID:6576-1751054400-1751065200@www.nwrdc.net
SUMMARY:(177583) FM Budgeting Lab -  SMS & Qmlativ
DESCRIPTION:The purpose of this lab is to provide a place for districts to come and get support with anything related to fiscal budgeting including crosswalks\, F-195 extracts\, moving accounts between budget processes\, and more. This session is for both SMS 2.0 and Qmlativ districts and will be done via Zoom. The Zoom room will be open from 1:00pm – 3:00pm for you to come in and get the help you <a href="http://need.br/br/br/br/Target" target="_blank" title="need. \nTarget”>need. \nTarget Audience: District Office Staff responsible for preparing and transmitting financial and personnel budget data to OSPI for the F-195 report.
URL:https://www.nwrdc.net/event/177583-fm-budgeting-lab-sms-qmlativ/
LOCATION:Online Only
CATEGORIES:Finance
END:VEVENT
END:VCALENDAR