BEGIN:VCALENDAR
VERSION:2.0
PRODID:-//NWRDC - ECPv6.15.19//NONSGML v1.0//EN
CALSCALE:GREGORIAN
METHOD:PUBLISH
X-WR-CALNAME:NWRDC
X-ORIGINAL-URL:https://www.nwrdc.net
X-WR-CALDESC:Events for NWRDC
REFRESH-INTERVAL;VALUE=DURATION:PT1H
X-Robots-Tag:noindex
X-PUBLISHED-TTL:PT1H
BEGIN:VTIMEZONE
TZID:UTC
BEGIN:STANDARD
TZOFFSETFROM:+0000
TZOFFSETTO:+0000
TZNAME:UTC
DTSTART:20240101T000000
END:STANDARD
END:VTIMEZONE
BEGIN:VEVENT
DTSTART;VALUE=DATE:20250630
DTEND;VALUE=DATE:20250701
DTSTAMP:20260423T124615
CREATED:20241008T192438Z
LAST-MODIFIED:20250630T072407Z
UID:6577-1751299200-1751324400@www.nwrdc.net
SUMMARY:(177585) Qmlativ Financial Data & Reporting
DESCRIPTION:This session will cover General Navigation\, List Screens\, Data Mining\, and Advanced Reporting for Financial Management in Qmlativ. The first part of the workshop will focus on navigating the areas of Finanical Management and creating List Screens to reivew data. The second part of the workshop will focus on creating Data Mining Reports and utilizing Advanced <a href="http://Reporting. br/br/Target" target="_blank" title="Reporting.  \nTarget”>Reporting.  \nTarget Audience: District Personnel responsible for reporting and analyzing financial data.
URL:https://www.nwrdc.net/event/177585-qmlativ-financial-data-reporting/
LOCATION:NWRDC Room Constellation A and B
CATEGORIES:Finance
END:VEVENT
END:VCALENDAR