BEGIN:VCALENDAR
VERSION:2.0
PRODID:-//NWRDC - ECPv6.15.19//NONSGML v1.0//EN
CALSCALE:GREGORIAN
METHOD:PUBLISH
X-ORIGINAL-URL:https://www.nwrdc.net
X-WR-CALDESC:Events for NWRDC
REFRESH-INTERVAL;VALUE=DURATION:PT1H
X-Robots-Tag:noindex
X-PUBLISHED-TTL:PT1H
BEGIN:VTIMEZONE
TZID:UTC
BEGIN:STANDARD
TZOFFSETFROM:+0000
TZOFFSETTO:+0000
TZNAME:UTC
DTSTART:20240101T000000
END:STANDARD
END:VTIMEZONE
BEGIN:VEVENT
DTSTART;TZID=UTC:20250908T160000
DTEND;TZID=UTC:20250908T180000
DTSTAMP:20260425T082657
CREATED:20250424T192510Z
LAST-MODIFIED:20250908T072408Z
UID:7997-1757347200-1757354400@www.nwrdc.net
SUMMARY:(186639) FM Pre-Migration Clean-Up Lab - Online Session
DESCRIPTION:This month’s topic will be Account <a href="http://Management.br/br/This" target="_blank" title="Management. \nThis”>Management. \nThis on-line workshop/lab offers a real-time opportunity to work collaboratively with NWRDC’s Pre-Migration Clean Up Team to discuss and resolve problematic data concerns in preparation for migration to Qmlativ..
URL:https://www.nwrdc.net/event/186639-fm-pre-migration-clean-up-lab-online-session/
LOCATION:Online Only
CATEGORIES:Finance
END:VEVENT
BEGIN:VEVENT
DTSTART;TZID=UTC:20250908T200000
DTEND;TZID=UTC:20250908T220000
DTSTAMP:20260425T082657
CREATED:20250822T192401Z
LAST-MODIFIED:20250908T192343Z
UID:8669-1757361600-1757368800@www.nwrdc.net
SUMMARY:(192270) HR/PR Pre-Migration Clean-Up Lab - Online Session
DESCRIPTION:“This month’s topics will be: \n  •  Tasks 1010 – Employee Profile/Verify Inactive Employee Statuses \n  •  Task 1020 – Retirement/Inactive EE’s Retirement Profile End Date \n  •  Task 1090 – Configuration/Certification Type Code \n  •  Task 1100 – Configuration/Certification Type Code Description \nThis on-line workshop/lab offers a real-time opportunity to work collaboratively with NWRDC’s Pre-Migration Clean Up Team to discuss and resolve problematic data concerns in preparation for migration to Qmlativ.”
URL:https://www.nwrdc.net/event/192270-hr-pr-pre-migration-clean-up-lab-online-session/
LOCATION:Online Only
CATEGORIES:HR/Payroll
END:VEVENT
END:VCALENDAR