BEGIN:VCALENDAR
VERSION:2.0
PRODID:-//NWRDC - ECPv6.15.19//NONSGML v1.0//EN
CALSCALE:GREGORIAN
METHOD:PUBLISH
X-ORIGINAL-URL:https://www.nwrdc.net
X-WR-CALDESC:Events for NWRDC
REFRESH-INTERVAL;VALUE=DURATION:PT1H
X-Robots-Tag:noindex
X-PUBLISHED-TTL:PT1H
BEGIN:VTIMEZONE
TZID:UTC
BEGIN:STANDARD
TZOFFSETFROM:+0000
TZOFFSETTO:+0000
TZNAME:UTC
DTSTART:20240101T000000
END:STANDARD
END:VTIMEZONE
BEGIN:VEVENT
DTSTART;TZID=UTC:20251120T160000
DTEND;TZID=UTC:20251120T170000
DTSTAMP:20260423T085230
CREATED:20250731T072411Z
LAST-MODIFIED:20251120T072410Z
UID:8548-1763654400-1763658000@www.nwrdc.net
SUMMARY:(190414) SMS2Q AR & General Inputs - Online Session
DESCRIPTION:SMS2Q sessions allow users from districts migrating within the next 6-9 months to bring any questions they encountered when completing their Pre-Migration trainings on the designated topic. Users can obtain the Training Schedule from their Project Manager that details the various PDC courses\, documentation\, and video resources that are a prerequisite to attending this Q&A session.
URL:https://www.nwrdc.net/event/190414-sms2q-ar-general-inputs-online-session/
LOCATION:Online Only
CATEGORIES:Finance
END:VEVENT
BEGIN:VEVENT
DTSTART;TZID=UTC:20251120T180000
DTEND;TZID=UTC:20251120T190000
DTSTAMP:20260423T085230
CREATED:20250731T072343Z
LAST-MODIFIED:20251120T072342Z
UID:8538-1763661600-1763665200@www.nwrdc.net
SUMMARY:(190409) SMS2Q Positions & Assignments - Online Session
DESCRIPTION:SMS2Q sessions allow users from districts migrating within the next 6-9 months to bring any questions they encountered when completing their Pre-Migration trainings on the designated topic. Users can obtain the Training Schedule from their Project Manager that details the various PDC courses\, documentation\, and video resources that are a prerequisite to attending this Q&A session.
URL:https://www.nwrdc.net/event/190409-sms2q-positions-assignments-online-session/
LOCATION:Online Only
CATEGORIES:HR/Payroll
END:VEVENT
END:VCALENDAR