BEGIN:VCALENDAR
VERSION:2.0
PRODID:-//NWRDC - ECPv6.15.19//NONSGML v1.0//EN
CALSCALE:GREGORIAN
METHOD:PUBLISH
X-WR-CALNAME:NWRDC
X-ORIGINAL-URL:https://www.nwrdc.net
X-WR-CALDESC:Events for NWRDC
REFRESH-INTERVAL;VALUE=DURATION:PT1H
X-Robots-Tag:noindex
X-PUBLISHED-TTL:PT1H
BEGIN:VTIMEZONE
TZID:UTC
BEGIN:STANDARD
TZOFFSETFROM:+0000
TZOFFSETTO:+0000
TZNAME:UTC
DTSTART:20250101T000000
END:STANDARD
END:VTIMEZONE
BEGIN:VEVENT
DTSTART;TZID=UTC:20260305T160000
DTEND;TZID=UTC:20260305T170000
DTSTAMP:20260425T083000
CREATED:20251209T192432Z
LAST-MODIFIED:20260305T072419Z
UID:9304-1772726400-1772730000@www.nwrdc.net
SUMMARY:(197049) SMS BUS OL: SMS2Q Vendors & Purchasing - Online Session
DESCRIPTION:SMS2Q sessions allow users from districts migrating within the next 6-9 months to bring any questions they encountered when completing their Pre-Migration trainings on the designated topic. Users can obtain the Training Schedule from their Project Manager that details the various PDC courses\, documentation\, and video resources that are a prerequisite to attending this Q&A session.
URL:https://www.nwrdc.net/event/197049-sms-bus-ol-sms2q-vendors-purchasing-online-session/
LOCATION:Online Only
CATEGORIES:Finance
END:VEVENT
BEGIN:VEVENT
DTSTART;TZID=UTC:20260310T160000
DTEND;TZID=UTC:20260310T220000
DTSTAMP:20260425T083000
CREATED:20250829T192346Z
LAST-MODIFIED:20260310T072342Z
UID:8727-1773158400-1773180000@www.nwrdc.net
SUMMARY:(192736) ALL HRPR IP Open Lab - Everett
DESCRIPTION:This lab will provide both Payroll and Personnel staff with a place to work on monthly tasks and processes with a coordinator available to answer any questions that arise. Payroll and Personnel Employees\, especially those within the first year of hire or migration to Qmlativ\, would find this lab <a href="http://beneficial.br/br/br/br/br/br/Who" target="_blank" title="beneficial. \nWho”>beneficial. \nWho Should Attend: HR and Payroll Staff
URL:https://www.nwrdc.net/event/192736-all-hrpr-ip-open-lab-everett/
LOCATION:Training Lab
CATEGORIES:HR/Payroll
END:VEVENT
BEGIN:VEVENT
DTSTART;TZID=UTC:20260312T150000
DTEND;TZID=UTC:20260312T160000
DTSTAMP:20260425T083000
CREATED:20251210T192409Z
LAST-MODIFIED:20260312T072441Z
UID:9334-1773327600-1773331200@www.nwrdc.net
SUMMARY:(197145) SMS BUS OL: SMS2Q AP & Credit Cards - Online Session
DESCRIPTION:SMS2Q sessions allow users from districts migrating within the next 6-9 months to bring any questions they encountered when completing their Pre-Migration trainings on the designated topic. Users can obtain the Training Schedule from their Project Manager that details the various PDC courses\, documentation\, and video resources that are a prerequisite to attending this Q&A session.
URL:https://www.nwrdc.net/event/197145-sms-bus-ol-sms2q-ap-credit-cards-online-session/
LOCATION:Online Only
CATEGORIES:Finance
END:VEVENT
BEGIN:VEVENT
DTSTART;TZID=UTC:20260312T170000
DTEND;TZID=UTC:20260312T180000
DTSTAMP:20260425T083000
CREATED:20251210T072343Z
LAST-MODIFIED:20260312T072437Z
UID:9313-1773334800-1773338400@www.nwrdc.net
SUMMARY:(197100) SMS BUS OL: SMS2Q Time Off - Online Session
DESCRIPTION:SMS2Q sessions allow users from districts migrating within the next 6-9 months to bring any questions they encountered when completing their Pre-Migration trainings on the designated topic. Users can obtain the Training Schedule from their Project Manager that details the various PDC courses\, documentation\, and video resources that are a prerequisite to attending this Q&A session.
URL:https://www.nwrdc.net/event/197100-sms-bus-ol-sms2q-time-off-online-session/
LOCATION:Online Only
CATEGORIES:HR/Payroll
END:VEVENT
BEGIN:VEVENT
DTSTART;TZID=UTC:20260319T150000
DTEND;TZID=UTC:20260319T160000
DTSTAMP:20260425T083000
CREATED:20251210T192409Z
LAST-MODIFIED:20260319T072415Z
UID:9335-1773932400-1773936000@www.nwrdc.net
SUMMARY:(197137) SMS BUS OL: SMS2Q AR & General Inputs - Online Session
DESCRIPTION:SMS2Q sessions allow users from districts migrating within the next 6-9 months to bring any questions they encountered when completing their Pre-Migration trainings on the designated topic. Users can obtain the Training Schedule from their Project Manager that details the various PDC courses\, documentation\, and video resources that are a prerequisite to attending this Q&A session.
URL:https://www.nwrdc.net/event/197137-sms-bus-ol-sms2q-ar-general-inputs-online-session/
LOCATION:Online Only
CATEGORIES:Finance
END:VEVENT
BEGIN:VEVENT
DTSTART;TZID=UTC:20260319T160000
DTEND;TZID=UTC:20260319T180000
DTSTAMP:20260425T083000
CREATED:20260128T072419Z
LAST-MODIFIED:20260319T072415Z
UID:9598-1773936000-1773943200@www.nwrdc.net
SUMMARY:(202004) QML BUS OL: Financial Budgeting
DESCRIPTION:The Financial Management Budgeting workshop/lab will instruct users in how to prepare F-195 financial budget data in Qmlativ\, including the transmission of financial and personnel data to <a href="http://OSPI.br/br/br/br/Target" target="_blank" title="OSPI. \nTarget”>OSPI. \nTarget Audience: District Office Staff responsible for preparing and transmitting financial and personnel budget data to OSPI for the F-195 report.
URL:https://www.nwrdc.net/event/202004-qml-bus-ol-financial-budgeting/
LOCATION:Online Only
CATEGORIES:Finance
END:VEVENT
BEGIN:VEVENT
DTSTART;TZID=UTC:20260319T170000
DTEND;TZID=UTC:20260319T180000
DTSTAMP:20260425T083000
CREATED:20251210T192346Z
LAST-MODIFIED:20260319T072341Z
UID:9323-1773939600-1773943200@www.nwrdc.net
SUMMARY:(197129) SMS BUS OL: SMS2Q Positions & Assignments - Online Session
DESCRIPTION:SMS2Q sessions allow users from districts migrating within the next 6-9 months to bring any questions they encountered when completing their Pre-Migration trainings on the designated topic. Users can obtain the Training Schedule from their Project Manager that details the various PDC courses\, documentation\, and video resources that are a prerequisite to attending this Q&A session.
URL:https://www.nwrdc.net/event/197129-sms-bus-ol-sms2q-positions-assignments-online-session/
LOCATION:Online Only
CATEGORIES:HR/Payroll
END:VEVENT
BEGIN:VEVENT
DTSTART;TZID=UTC:20260326T170000
DTEND;TZID=UTC:20260326T180000
DTSTAMP:20260425T083000
CREATED:20251209T192426Z
LAST-MODIFIED:20260326T072341Z
UID:9296-1774544400-1774548000@www.nwrdc.net
SUMMARY:(197039) SMS BUS OL: SMS2Q Employee Profile - Online Session
DESCRIPTION:SMS2Q sessions allow users from districts migrating within the next 6-9 months to bring any questions they encountered when completing their Pre-Migration trainings on the designated topic. Users can obtain the Training Schedule from their Project Manager that details the various PDC courses\, documentation\, and video resources that are a prerequisite to attending this Q&A session.
URL:https://www.nwrdc.net/event/197039-sms-bus-ol-sms2q-employee-profile-online-session/
LOCATION:Online Only
CATEGORIES:HR/Payroll
END:VEVENT
BEGIN:VEVENT
DTSTART;TZID=UTC:20260402T150000
DTEND;TZID=UTC:20260402T160000
DTSTAMP:20260425T083000
CREATED:20251209T192432Z
LAST-MODIFIED:20260402T072416Z
UID:9305-1775142000-1775145600@www.nwrdc.net
SUMMARY:(197050) SMS BUS OL: SMS2Q Vendors & Purchasing - Online Session
DESCRIPTION:SMS2Q sessions allow users from districts migrating within the next 6-9 months to bring any questions they encountered when completing their Pre-Migration trainings on the designated topic. Users can obtain the Training Schedule from their Project Manager that details the various PDC courses\, documentation\, and video resources that are a prerequisite to attending this Q&A session.
URL:https://www.nwrdc.net/event/197050-sms-bus-ol-sms2q-vendors-purchasing-online-session/
LOCATION:Online Only
CATEGORIES:Finance
END:VEVENT
BEGIN:VEVENT
DTSTART;TZID=UTC:20260409T150000
DTEND;TZID=UTC:20260409T160000
DTSTAMP:20260425T083000
CREATED:20251210T192409Z
LAST-MODIFIED:20260409T072412Z
UID:9336-1775746800-1775750400@www.nwrdc.net
SUMMARY:(197146) SMS BUS OL: SMS2Q AP & Credit Cards - Online Session
DESCRIPTION:SMS2Q sessions allow users from districts migrating within the next 6-9 months to bring any questions they encountered when completing their Pre-Migration trainings on the designated topic. Users can obtain the Training Schedule from their Project Manager that details the various PDC courses\, documentation\, and video resources that are a prerequisite to attending this Q&A session.
URL:https://www.nwrdc.net/event/197146-sms-bus-ol-sms2q-ap-credit-cards-online-session/
LOCATION:Online Only
CATEGORIES:Finance
END:VEVENT
BEGIN:VEVENT
DTSTART;TZID=UTC:20260409T170000
DTEND;TZID=UTC:20260409T180000
DTSTAMP:20260425T083000
CREATED:20251210T072343Z
LAST-MODIFIED:20260409T072350Z
UID:9314-1775754000-1775757600@www.nwrdc.net
SUMMARY:(197101) SMS BUS OL: SMS2Q Time Off - Online Session
DESCRIPTION:SMS2Q sessions allow users from districts migrating within the next 6-9 months to bring any questions they encountered when completing their Pre-Migration trainings on the designated topic. Users can obtain the Training Schedule from their Project Manager that details the various PDC courses\, documentation\, and video resources that are a prerequisite to attending this Q&A session.
URL:https://www.nwrdc.net/event/197101-sms-bus-ol-sms2q-time-off-online-session/
LOCATION:Online Only
CATEGORIES:HR/Payroll
END:VEVENT
BEGIN:VEVENT
DTSTART;TZID=UTC:20260413T160000
DTEND;TZID=UTC:20260413T180000
DTSTAMP:20260425T083000
CREATED:20250424T192512Z
LAST-MODIFIED:20260326T192415Z
UID:8004-1776096000-1776103200@www.nwrdc.net
SUMMARY:(186646) FM Pre-Migration Clean-Up Lab - Online Session
DESCRIPTION:This month’s topic will be Accounts <a href="http://Payable.br/br/This" target="_blank" title="Payable. \nThis”>Payable. \nThis on-line workshop/lab offers a real-time opportunity to work collaboratively with NWRDC’s Pre-Migration Clean Up Team to discuss and resolve problematic data concerns in preparation for migration to Qmlativ..
URL:https://www.nwrdc.net/event/186646-fm-pre-migration-clean-up-lab-online-session/
LOCATION:Online Only
CATEGORIES:Finance
END:VEVENT
BEGIN:VEVENT
DTSTART;TZID=UTC:20260413T200000
DTEND;TZID=UTC:20260413T220000
DTSTAMP:20260425T083000
CREATED:20250822T192405Z
LAST-MODIFIED:20260326T192342Z
UID:8676-1776110400-1776117600@www.nwrdc.net
SUMMARY:(192283) SMS-BUS-OL: HR/PR Pre-Migration Clean-Up Lab - Online Session
DESCRIPTION:“This month’s topics will be: \n  •  Task 1030 – Payroll/ Review Inactive EE’s Direct Deposit  \n  •  Task 1040 – Payroll/Deduction & Benefit Codes Inactive  \n  •  Task 1110 – Employee Profile/Credit Earned-Completed-Approved \n  •  Task 1160 – Employee Profile/Review Unfilled and/or Fake Employees \nThis on-line workshop/lab offers a real-time opportunity to work collaboratively with NWRDC’s Pre-Migration Clean Up Team to discuss and resolve problematic data concerns in preparation for migration to Qmlativ.”
URL:https://www.nwrdc.net/event/192283-hr-pr-pre-migration-clean-up-lab-online-session/
LOCATION:Online Only
CATEGORIES:HR/Payroll
END:VEVENT
BEGIN:VEVENT
DTSTART;TZID=UTC:20260414T160000
DTEND;TZID=UTC:20260414T220000
DTSTAMP:20260425T083000
CREATED:20250917T072347Z
LAST-MODIFIED:20260414T072535Z
UID:8827-1776182400-1776204000@www.nwrdc.net
SUMMARY:(193898) ALL BUS IP: Open HR PR Lab - North
DESCRIPTION:This lab will provide both Payroll and Personnel staff with a place to work on monthly tasks and processes with a coordinator available to answer any questions that arise. Payroll and Personnel Employees\, especially those within the first year of hire or migration to Qmlativ\, would find this lab <a href="http://beneficial.br/br/br/br/Who" target="_blank" title="beneficial. \nWho”>beneficial. \nWho Should Attend:HR and Payroll Staff
URL:https://www.nwrdc.net/event/193898-all-bus-ip-open-hr-pr-lab-north/
LOCATION:Room 103\, Bellingham
CATEGORIES:HR/Payroll
END:VEVENT
BEGIN:VEVENT
DTSTART;TZID=UTC:20260416T150000
DTEND;TZID=UTC:20260416T160000
DTSTAMP:20260425T083000
CREATED:20251210T192409Z
LAST-MODIFIED:20260416T072419Z
UID:9337-1776351600-1776355200@www.nwrdc.net
SUMMARY:(197138) SMS BUS OL: SMS2Q AR & General Inputs - Online Session
DESCRIPTION:SMS2Q sessions allow users from districts migrating within the next 6-9 months to bring any questions they encountered when completing their Pre-Migration trainings on the designated topic. Users can obtain the Training Schedule from their Project Manager that details the various PDC courses\, documentation\, and video resources that are a prerequisite to attending this Q&A session.
URL:https://www.nwrdc.net/event/197138-sms-bus-ol-sms2q-ar-general-inputs-online-session/
LOCATION:Online Only
CATEGORIES:Finance
END:VEVENT
BEGIN:VEVENT
DTSTART;TZID=UTC:20260416T170000
DTEND;TZID=UTC:20260416T180000
DTSTAMP:20260425T083000
CREATED:20251210T192346Z
LAST-MODIFIED:20260416T072356Z
UID:9324-1776358800-1776362400@www.nwrdc.net
SUMMARY:(197130) SMS BUS OL: SMS2Q Positions & Assignments - Online Session
DESCRIPTION:SMS2Q sessions allow users from districts migrating within the next 6-9 months to bring any questions they encountered when completing their Pre-Migration trainings on the designated topic. Users can obtain the Training Schedule from their Project Manager that details the various PDC courses\, documentation\, and video resources that are a prerequisite to attending this Q&A session.
URL:https://www.nwrdc.net/event/197130-sms-bus-ol-sms2q-positions-assignments-online-session/
LOCATION:Online Only
CATEGORIES:HR/Payroll
END:VEVENT
BEGIN:VEVENT
DTSTART;TZID=UTC:20260423T170000
DTEND;TZID=UTC:20260423T180000
DTSTAMP:20260425T083000
CREATED:20251209T192426Z
LAST-MODIFIED:20260423T072403Z
UID:9297-1776963600-1776967200@www.nwrdc.net
SUMMARY:(197041) SMS BUS OL: SMS2Q Employee Profile - Online Session
DESCRIPTION:SMS2Q sessions allow users from districts migrating within the next 6-9 months to bring any questions they encountered when completing their Pre-Migration trainings on the designated topic. Users can obtain the Training Schedule from their Project Manager that details the various PDC courses\, documentation\, and video resources that are a prerequisite to attending this Q&A session.
URL:https://www.nwrdc.net/event/197041-sms-bus-ol-sms2q-employee-profile-online-session/
LOCATION:Online Only
CATEGORIES:HR/Payroll
END:VEVENT
BEGIN:VEVENT
DTSTART;TZID=UTC:20260504T160000
DTEND;TZID=UTC:20260504T180000
DTSTAMP:20260425T083000
CREATED:20250504T072410Z
LAST-MODIFIED:20260425T072410Z
UID:8059-1777910400-1777917600@www.nwrdc.net
SUMMARY:(186647) FM Pre-Migration Clean-Up Lab - Online Session
DESCRIPTION:This month’s topic will be Accounts <a href="http://Payable.br/br/This" target="_blank" title="Payable. \nThis”>Payable. \nThis on-line workshop/lab offers a real-time opportunity to work collaboratively with NWRDC’s Pre-Migration Clean Up Team to discuss and resolve problematic data concerns in preparation for migration to Qmlativ.
URL:https://www.nwrdc.net/event/186647-fm-pre-migration-clean-up-lab-online-session/
LOCATION:Online Only
CATEGORIES:Finance
END:VEVENT
BEGIN:VEVENT
DTSTART;TZID=UTC:20260504T200000
DTEND;TZID=UTC:20260504T220000
DTSTAMP:20260425T083000
CREATED:20250822T192406Z
LAST-MODIFIED:20260425T072341Z
UID:8677-1777924800-1777932000@www.nwrdc.net
SUMMARY:(192284) HR/PR Pre-Migration Clean-Up Lab - Online Session
DESCRIPTION:“This month’s topics will be: \n  •  Task 1060 – Retirement/Review Inactive EE’s Retirement Deduction & Benefit Codes \n  •  Task 1070 – State & Federal Reporting/W2 PDF File Created and Allow Viewing W2 Info EA \n  •  Task 1080 – State & Federal Reporting/Lock W2 File \n  •  Task 1170 – Configuration/Employee Type Codes for Workers’ Comp Hours \n  •  Task 1180 – Employee Profile/Rehire Date Field \nThis on-line workshop/lab offers a real-time opportunity to work collaboratively with NWRDC’s Pre-Migration Clean Up Team to discuss and resolve problematic data concerns in preparation for migration to Qmlativ.”
URL:https://www.nwrdc.net/event/192284-hr-pr-pre-migration-clean-up-lab-online-session/
LOCATION:Online Only
CATEGORIES:HR/Payroll
END:VEVENT
BEGIN:VEVENT
DTSTART;TZID=UTC:20260507T150000
DTEND;TZID=UTC:20260507T160000
DTSTAMP:20260425T083000
CREATED:20251209T192432Z
LAST-MODIFIED:20260425T072410Z
UID:9306-1778166000-1778169600@www.nwrdc.net
SUMMARY:(197051) SMS BUS OL: SMS2Q Vendors & Purchasing - Online Session
DESCRIPTION:SMS2Q sessions allow users from districts migrating within the next 6-9 months to bring any questions they encountered when completing their Pre-Migration trainings on the designated topic. Users can obtain the Training Schedule from their Project Manager that details the various PDC courses\, documentation\, and video resources that are a prerequisite to attending this Q&A session.
URL:https://www.nwrdc.net/event/197051-sms-bus-ol-sms2q-vendors-purchasing-online-session/
LOCATION:Online Only
CATEGORIES:Finance
END:VEVENT
BEGIN:VEVENT
DTSTART;TZID=UTC:20260512T160000
DTEND;TZID=UTC:20260512T220000
DTSTAMP:20260425T083000
CREATED:20250829T192347Z
LAST-MODIFIED:20260425T072341Z
UID:8728-1778601600-1778623200@www.nwrdc.net
SUMMARY:(192772) ALL BUS IP: Open HR PR Lab - South
DESCRIPTION:This lab will provide both Payroll and Personnel staff with a place to work on monthly tasks and processes with a coordinator available to answer any questions that arise. Payroll and Personnel Employees\, especially those within the first year of hire or migration to Qmlativ\, would find this lab <a href="http://beneficial.br/br/br/br/br/br/br/br/Who" target="_blank" title="beneficial. \nWho”>beneficial. \nWho Should Attend: HR and Payroll Staff
URL:https://www.nwrdc.net/event/192772-all-bus-ip-open-hr-pr-lab-south/
LOCATION:Board Room
CATEGORIES:HR/Payroll
END:VEVENT
BEGIN:VEVENT
DTSTART;TZID=UTC:20260514T150000
DTEND;TZID=UTC:20260514T160000
DTSTAMP:20260425T083000
CREATED:20251210T192410Z
LAST-MODIFIED:20260425T072410Z
UID:9338-1778770800-1778774400@www.nwrdc.net
SUMMARY:(197147) SMS BUS OL: SMS2Q AP & Credit Cards - Online Session
DESCRIPTION:SMS2Q sessions allow users from districts migrating within the next 6-9 months to bring any questions they encountered when completing their Pre-Migration trainings on the designated topic. Users can obtain the Training Schedule from their Project Manager that details the various PDC courses\, documentation\, and video resources that are a prerequisite to attending this Q&A session.
URL:https://www.nwrdc.net/event/197147-sms-bus-ol-sms2q-ap-credit-cards-online-session/
LOCATION:Online Only
CATEGORIES:Finance
END:VEVENT
BEGIN:VEVENT
DTSTART;TZID=UTC:20260514T170000
DTEND;TZID=UTC:20260514T180000
DTSTAMP:20260425T083000
CREATED:20251210T072344Z
LAST-MODIFIED:20260425T072341Z
UID:9315-1778778000-1778781600@www.nwrdc.net
SUMMARY:(197102) SMS BUS OL: SMS2Q Time Off - Online Session
DESCRIPTION:SMS2Q sessions allow users from districts migrating within the next 6-9 months to bring any questions they encountered when completing their Pre-Migration trainings on the designated topic. Users can obtain the Training Schedule from their Project Manager that details the various PDC courses\, documentation\, and video resources that are a prerequisite to attending this Q&A session.
URL:https://www.nwrdc.net/event/197102-sms-bus-ol-sms2q-time-off-online-session/
LOCATION:Online Only
CATEGORIES:HR/Payroll
END:VEVENT
BEGIN:VEVENT
DTSTART;TZID=UTC:20260521T150000
DTEND;TZID=UTC:20260521T160000
DTSTAMP:20260425T083000
CREATED:20251210T192410Z
LAST-MODIFIED:20260425T072410Z
UID:9339-1779375600-1779379200@www.nwrdc.net
SUMMARY:(197139) SMS BUS OL: SMS2Q AR & General Inputs - Online Session
DESCRIPTION:SMS2Q sessions allow users from districts migrating within the next 6-9 months to bring any questions they encountered when completing their Pre-Migration trainings on the designated topic. Users can obtain the Training Schedule from their Project Manager that details the various PDC courses\, documentation\, and video resources that are a prerequisite to attending this Q&A session.
URL:https://www.nwrdc.net/event/197139-sms-bus-ol-sms2q-ar-general-inputs-online-session/
LOCATION:Online Only
CATEGORIES:Finance
END:VEVENT
BEGIN:VEVENT
DTSTART;TZID=UTC:20260521T170000
DTEND;TZID=UTC:20260521T180000
DTSTAMP:20260425T083000
CREATED:20251210T192347Z
LAST-MODIFIED:20260425T072341Z
UID:9325-1779382800-1779386400@www.nwrdc.net
SUMMARY:(197131) SMS BUS OL: SMS2Q Positions & Assignments - Online Session
DESCRIPTION:SMS2Q sessions allow users from districts migrating within the next 6-9 months to bring any questions they encountered when completing their Pre-Migration trainings on the designated topic. Users can obtain the Training Schedule from their Project Manager that details the various PDC courses\, documentation\, and video resources that are a prerequisite to attending this Q&A session.
URL:https://www.nwrdc.net/event/197131-sms-bus-ol-sms2q-positions-assignments-online-session/
LOCATION:Online Only
CATEGORIES:HR/Payroll
END:VEVENT
BEGIN:VEVENT
DTSTART;TZID=UTC:20260528T170000
DTEND;TZID=UTC:20260528T180000
DTSTAMP:20260425T083000
CREATED:20251209T192426Z
LAST-MODIFIED:20260425T072341Z
UID:9298-1779987600-1779991200@www.nwrdc.net
SUMMARY:(197042) SMS BUS OL: SMS2Q Employee Profile - Online Session
DESCRIPTION:SMS2Q sessions allow users from districts migrating within the next 6-9 months to bring any questions they encountered when completing their Pre-Migration trainings on the designated topic. Users can obtain the Training Schedule from their Project Manager that details the various PDC courses\, documentation\, and video resources that are a prerequisite to attending this Q&A session.
URL:https://www.nwrdc.net/event/197042-sms-bus-ol-sms2q-employee-profile-online-session/
LOCATION:Online Only
CATEGORIES:HR/Payroll
END:VEVENT
BEGIN:VEVENT
DTSTART;TZID=UTC:20260601T160000
DTEND;TZID=UTC:20260601T180000
DTSTAMP:20260425T083000
CREATED:20250601T072429Z
LAST-MODIFIED:20260425T072410Z
UID:8217-1780329600-1780336800@www.nwrdc.net
SUMMARY:(186648) FM Pre-Migration Clean-Up Lab - Online Session
DESCRIPTION:This month’s topic will be <a href="http://Vendors.br/br/This" target="_blank" title="Vendors. \nThis”>Vendors. \nThis on-line workshop/lab offers a real-time opportunity to work collaboratively with NWRDC’s Pre-Migration Clean Up Team to discuss and resolve problematic data concerns in preparation for migration to Qmlativ..
URL:https://www.nwrdc.net/event/186648-fm-pre-migration-clean-up-lab-online-session/
LOCATION:Online Only
CATEGORIES:Finance
END:VEVENT
BEGIN:VEVENT
DTSTART;TZID=UTC:20260601T200000
DTEND;TZID=UTC:20260601T220000
DTSTAMP:20260425T083000
CREATED:20250822T192406Z
LAST-MODIFIED:20260425T072341Z
UID:8678-1780344000-1780351200@www.nwrdc.net
SUMMARY:(192286) HR/PR Pre-Migration Clean-Up Lab - Online Session
DESCRIPTION:This month’s topics will be: \n  •  Task 1120 – Salary Neg/Employee Mgt./S-275 Assignment Breakdown \n  •  Task 1130 – Salary Neg/Employee Mgt./Assignment Breakdown Grage Group \n  •  Task 1200 – Employee Management/EMS Pay Code Review \n  •  Task 1210 – Employee Profile/Active Employees EEOC Codes \n  •  Task 1220 – Employee Profile/Certifications Expiration Dates \nThis on-line workshop/lab offers a real-time opportunity to work collaboratively with NWRDC’s Pre-Migration Clean Up Team to discuss and resolve problematic data concerns in preparation for migration to Qmlativ.
URL:https://www.nwrdc.net/event/192286-hr-pr-pre-migration-clean-up-lab-online-session/
LOCATION:Online Only
CATEGORIES:HR/Payroll
END:VEVENT
BEGIN:VEVENT
DTSTART;TZID=UTC:20260604T150000
DTEND;TZID=UTC:20260604T160000
DTSTAMP:20260425T083000
CREATED:20251209T192433Z
LAST-MODIFIED:20260425T072410Z
UID:9307-1780585200-1780588800@www.nwrdc.net
SUMMARY:(197053) SMS BUS OL: SMS2Q Vendors & Purchasing - Online Session
DESCRIPTION:SMS2Q sessions allow users from districts migrating within the next 6-9 months to bring any questions they encountered when completing their Pre-Migration trainings on the designated topic. Users can obtain the Training Schedule from their Project Manager that details the various PDC courses\, documentation\, and video resources that are a prerequisite to attending this Q&A session.
URL:https://www.nwrdc.net/event/197053-sms-bus-ol-sms2q-vendors-purchasing-online-session/
LOCATION:Online Only
CATEGORIES:Finance
END:VEVENT
BEGIN:VEVENT
DTSTART;TZID=UTC:20260604T160000
DTEND;TZID=UTC:20260604T230000
DTSTAMP:20260425T083000
CREATED:20260425T072341Z
LAST-MODIFIED:20260425T072341Z
UID:10061-1780588800-1780614000@www.nwrdc.net
SUMMARY:(204582) QML BUS IP: Applicant Tracking
DESCRIPTION:Join us for an in‑depth in-person training session focused on Qmlativ Applicant Tracking. This session will show how the system supports the district’s end‑to‑end hiring process—from posting job openings to screening candidates and moving new hires forward to onboarding. Whether you’ve been using Qmlativ for some time or are still transitioning from SMS\, this training will provide valuable insights and practical guidance. The training day will be divided into two sessions: \nPart 1: Applicant Tracking Overview \nLearn how Applicant Tracking works once fully configured. This session will walk users through the entire hiring journey—from the applicant’s experience in the Applicant Access portal to hiring and <a href="http://onboarding. br/br/Part" target="_blank" title="onboarding.  \nPart”>onboarding.  \nPart 2: Applicant Tracking Setup \nGet a step‑by‑step walkthrough of how to properly set up Applicant Tracking in Qmlativ to support your organization’s hiring needs.
URL:https://www.nwrdc.net/event/204582-qml-bus-ip-applicant-tracking/
LOCATION:NWRDC Everett
CATEGORIES:HR/Payroll
END:VEVENT
END:VCALENDAR