BEGIN:VCALENDAR
VERSION:2.0
PRODID:-//NWRDC - ECPv6.15.19//NONSGML v1.0//EN
CALSCALE:GREGORIAN
METHOD:PUBLISH
X-ORIGINAL-URL:https://www.nwrdc.net
X-WR-CALDESC:Events for NWRDC
REFRESH-INTERVAL;VALUE=DURATION:PT1H
X-Robots-Tag:noindex
X-PUBLISHED-TTL:PT1H
BEGIN:VTIMEZONE
TZID:UTC
BEGIN:STANDARD
TZOFFSETFROM:+0000
TZOFFSETTO:+0000
TZNAME:UTC
DTSTART:20230101T000000
END:STANDARD
END:VTIMEZONE
BEGIN:VEVENT
DTSTART;VALUE=DATE:20240702
DTEND;VALUE=DATE:20240703
DTSTAMP:20260423T052913
CREATED:20240217T045710Z
LAST-MODIFIED:20240702T045559Z
UID:4526-1719878400-1719964799@www.nwrdc.net
SUMMARY:(167096) DISTRICT - Year End Process Working Session - Online Session
DESCRIPTION:This is a working session designed for Skyward District Level Contacts to retain pertinent student and system information from the current school year and run the Year End Wizard to roll the database forward to the new school year. The Year End Wizard is divided into multiple steps: Pre-Year End Validation\, Next Year Table Creation\, Student Program Withdrawls\, Student Year End Processes\, Student Year Start Utilities and Post-Year End Validation. \nTarget Audience: Skyward District Coordinators responsible for performing District Year End Processes.
URL:https://www.nwrdc.net/event/district-year-end-process-working-session-online-session-9/
LOCATION:Online Only
CATEGORIES:Student
END:VEVENT
BEGIN:VEVENT
DTSTART;TZID=UTC:20240702T080000
DTEND;TZID=UTC:20240702T090000
DTSTAMP:20260423T052913
CREATED:20240621T192346Z
LAST-MODIFIED:20240702T072343Z
UID:5645-1719907200-1719910800@www.nwrdc.net
SUMMARY:(171121) SMS2Q Employee Profile - Online Session
DESCRIPTION:SMS2Q sessions allow users from districts migrating within the next 6-9 months to bring any questions they encountered when completing their Pre-Migration trainings on the designated topic. Users can obtain the Training Schedule from their Project Manager that details the various PDC courses\, documentation\, and video resources that are a prerequisite to attending this Q&A session.
URL:https://www.nwrdc.net/event/171121-sms2q-employee-profile-online-session/
LOCATION:Online Only
CATEGORIES:HR/Payroll
END:VEVENT
BEGIN:VEVENT
DTSTART;TZID=UTC:20240702T100000
DTEND;TZID=UTC:20240702T110000
DTSTAMP:20260423T052913
CREATED:20240621T192431Z
LAST-MODIFIED:20240702T072407Z
UID:5647-1719914400-1719918000@www.nwrdc.net
SUMMARY:(171124) SMS2Q Vendors & Purchasing - Online Session
DESCRIPTION:SMS2Q sessions allow users from districts migrating within the next 6-9 months to bring any questions they encountered when completing their Pre-Migration trainings on the designated topic. Users can obtain the Training Schedule from their Project Manager that details the various PDC courses\, documentation\, and video resources that are a prerequisite to attending this Q&A session.
URL:https://www.nwrdc.net/event/171124-sms2q-vendors-purchasing-online-session/
LOCATION:Online Only
CATEGORIES:Finance
END:VEVENT
BEGIN:VEVENT
DTSTART;TZID=UTC:20240708T090000
DTEND;TZID=UTC:20240708T120000
DTSTAMP:20260423T052913
CREATED:20230517T192420Z
LAST-MODIFIED:20240708T072415Z
UID:2056-1720429200-1720440000@www.nwrdc.net
SUMMARY:(156073) FM Pre-Migration Clean-Up Lab - Online Session
DESCRIPTION:This month’s topic will be Open Topic Lab. \nThis on-line workshop/lab offers a real-time opportunity to work collaboratively with NWRDC’s Pre-Migration Clean Up Team to discuss and resolve problematic data concerns in preparation for migration to Qmlativ..
URL:https://www.nwrdc.net/event/fm-pre-migration-clean-up-lab-online-session-16/
LOCATION:Online Only
CATEGORIES:Finance
END:VEVENT
BEGIN:VEVENT
DTSTART;TZID=UTC:20240708T130000
DTEND;TZID=UTC:20240708T140000
DTSTAMP:20260423T052913
CREATED:20230517T192345Z
LAST-MODIFIED:20240708T072412Z
UID:2046-1720443600-1720447200@www.nwrdc.net
SUMMARY:(156093) HR/PR Pre-Migration Clean-Up Lab - Online Session
DESCRIPTION:This on-line workshop/lab offers a real-time opportunity to work collaboratively with NWRDC’s Pre-Migration Clean Up Team to discuss and resolve problematic data concerns in preparation for migration to Qmlativ.
URL:https://www.nwrdc.net/event/hr-pr-pre-migration-clean-up-lab-online-session-16/
LOCATION:Online Only
CATEGORIES:HR/Payroll
END:VEVENT
BEGIN:VEVENT
DTSTART;VALUE=DATE:20240709
DTEND;VALUE=DATE:20240710
DTSTAMP:20260423T052913
CREATED:20240217T045710Z
LAST-MODIFIED:20240709T045557Z
UID:4527-1720483200-1720569599@www.nwrdc.net
SUMMARY:(167097) DISTRICT - Year End Process Working Session - Online Session
DESCRIPTION:This is a working session designed for Skyward District Level Contacts to retain pertinent student and system information from the current school year and run the Year End Wizard to roll the database forward to the new school year. The Year End Wizard is divided into multiple steps: Pre-Year End Validation\, Next Year Table Creation\, Student Program Withdrawls\, Student Year End Processes\, Student Year Start Utilities and Post-Year End Validation. \nTarget Audience: Skyward District Coordinators responsible for performing District Year End Processes.
URL:https://www.nwrdc.net/event/district-year-end-process-working-session-online-session-10/
LOCATION:Online Only
CATEGORIES:Student
END:VEVENT
BEGIN:VEVENT
DTSTART;TZID=UTC:20240709T080000
DTEND;TZID=UTC:20240709T090000
DTSTAMP:20260423T052913
CREATED:20240703T192344Z
LAST-MODIFIED:20240709T072344Z
UID:5730-1720512000-1720515600@www.nwrdc.net
SUMMARY:(171558) SMS2Q Time Off - Online Session
DESCRIPTION:SMS2Q sessions allow users from districts migrating within the next 6-9 months to bring any questions they encountered when completing their Pre-Migration trainings on the designated topic. Users can obtain the Training Schedule from their Project Manager that details the various PDC courses\, documentation\, and video resources that are a prerequisite to attending this Q&A session.
URL:https://www.nwrdc.net/event/171558-sms2q-time-off-online-session/
LOCATION:Online Only
CATEGORIES:HR/Payroll
END:VEVENT
BEGIN:VEVENT
DTSTART;TZID=UTC:20240709T090000
DTEND;TZID=UTC:20240709T150000
DTSTAMP:20260423T052913
CREATED:20240213T192433Z
LAST-MODIFIED:20240709T072345Z
UID:4485-1720515600-1720537200@www.nwrdc.net
SUMMARY:(166948) Payroll/Personnel Lab - In Person
DESCRIPTION:District staff can bring their work to the lab anytime during the hours listed below. This lab will provide both Payroll and Personnel staff a place to work on monthly tasks and processes with a coordinator available to answer any questions that arise. \nWho Should Attend: Payroll and Personnel Employees\, especially those within the first year of hire or migration to Qmlativ.
URL:https://www.nwrdc.net/event/payroll-personnel-lab-in-person-10/
LOCATION:Training Lab
CATEGORIES:HR/Payroll
END:VEVENT
BEGIN:VEVENT
DTSTART;TZID=UTC:20240709T100000
DTEND;TZID=UTC:20240709T110000
DTSTAMP:20260423T052913
CREATED:20240703T192407Z
LAST-MODIFIED:20240709T072413Z
UID:5734-1720519200-1720522800@www.nwrdc.net
SUMMARY:(171559) SMS2Q AP & Credit Cards - Online Session
DESCRIPTION:SMS2Q sessions allow users from districts migrating within the next 6-9 months to bring any questions they encountered when completing their Pre-Migration trainings on the designated topic. Users can obtain the Training Schedule from their Project Manager that details the various PDC courses\, documentation\, and video resources that are a prerequisite to attending this Q&A session.
URL:https://www.nwrdc.net/event/171559-sms2q-ap-credit-cards-online-session/
LOCATION:Online Only
CATEGORIES:Finance
END:VEVENT
BEGIN:VEVENT
DTSTART;VALUE=DATE:20240716
DTEND;VALUE=DATE:20240717
DTSTAMP:20260423T052913
CREATED:20240217T045711Z
LAST-MODIFIED:20240716T045634Z
UID:4529-1721088000-1721174399@www.nwrdc.net
SUMMARY:(167098) DISTRICT - Year End Process Working Session - Online Session
DESCRIPTION:This is a working session designed for Skyward District Level Contacts to retain pertinent student and system information from the current school year and run the Year End Wizard to roll the database forward to the new school year. The Year End Wizard is divided into multiple steps: Pre-Year End Validation\, Next Year Table Creation\, Student Program Withdrawls\, Student Year End Processes\, Student Year Start Utilities and Post-Year End Validation. \nTarget Audience: Skyward District Coordinators responsible for performing District Year End Processes.
URL:https://www.nwrdc.net/event/district-year-end-process-working-session-online-session-11/
LOCATION:Online Only
CATEGORIES:Student
END:VEVENT
BEGIN:VEVENT
DTSTART;TZID=UTC:20240716T080000
DTEND;TZID=UTC:20240716T090000
DTSTAMP:20260423T052913
CREATED:20240703T192344Z
LAST-MODIFIED:20240716T072355Z
UID:5731-1721116800-1721120400@www.nwrdc.net
SUMMARY:(171560) SMS2Q Positions & Assignments - Online Session
DESCRIPTION:SMS2Q sessions allow users from districts migrating within the next 6-9 months to bring any questions they encountered when completing their Pre-Migration trainings on the designated topic. Users can obtain the Training Schedule from their Project Manager that details the various PDC courses\, documentation\, and video resources that are a prerequisite to attending this Q&A session.
URL:https://www.nwrdc.net/event/171560-sms2q-positions-assignments-online-session/
LOCATION:Online Only
CATEGORIES:HR/Payroll
END:VEVENT
BEGIN:VEVENT
DTSTART;TZID=UTC:20240716T100000
DTEND;TZID=UTC:20240716T110000
DTSTAMP:20260423T052913
CREATED:20240703T192407Z
LAST-MODIFIED:20240716T072510Z
UID:5735-1721124000-1721127600@www.nwrdc.net
SUMMARY:(171561) SMS2Q AR & General Inputs - Online Session
DESCRIPTION:SMS2Q sessions allow users from districts migrating within the next 6-9 months to bring any questions they encountered when completing their Pre-Migration trainings on the designated topic. Users can obtain the Training Schedule from their Project Manager that details the various PDC courses\, documentation\, and video resources that are a prerequisite to attending this Q&A session.
URL:https://www.nwrdc.net/event/171561-sms2q-ar-general-inputs-online-session/
LOCATION:Online Only
CATEGORIES:Finance
END:VEVENT
BEGIN:VEVENT
DTSTART;TZID=UTC:20240718T100000
DTEND;TZID=UTC:20240718T120000
DTSTAMP:20260423T052913
CREATED:20240529T192342Z
LAST-MODIFIED:20240718T072449Z
UID:5473-1721296800-1721304000@www.nwrdc.net
SUMMARY:(170070) Qmlativ Contract Letters
DESCRIPTION:This online workshop will cover configuring and distributing Employee Contract Letters in Qmlativ. Topics will include:  \n  * District Settings  * Security Settings  * Contract Letter Features  * Codes  * Utilities. \nIntended Audience: Human Resources personnel responsible for creating and publishing Employee Contract Letters in Qmlativ.
URL:https://www.nwrdc.net/event/170070-qmlativ-contract-letters/
LOCATION:Online Only
CATEGORIES:HR/Payroll
END:VEVENT
BEGIN:VEVENT
DTSTART;VALUE=DATE:20240723
DTEND;VALUE=DATE:20240724
DTSTAMP:20260423T052913
CREATED:20240217T045711Z
LAST-MODIFIED:20240723T045626Z
UID:4530-1721692800-1721779199@www.nwrdc.net
SUMMARY:(167099) DISTRICT - Year End Process Working Session - Online Session
DESCRIPTION:This is a working session designed for Skyward District Level Contacts to retain pertinent student and system information from the current school year and run the Year End Wizard to roll the database forward to the new school year. The Year End Wizard is divided into multiple steps: Pre-Year End Validation\, Next Year Table Creation\, Student Program Withdrawls\, Student Year End Processes\, Student Year Start Utilities and Post-Year End Validation. \nTarget Audience: Skyward District Coordinators responsible for performing District Year End Processes.
URL:https://www.nwrdc.net/event/district-year-end-process-working-session-online-session-12/
LOCATION:Online Only
CATEGORIES:Student
END:VEVENT
BEGIN:VEVENT
DTSTART;TZID=UTC:20240724T090000
DTEND;TZID=UTC:20240724T160000
DTSTAMP:20260423T052913
CREATED:20240419T072418Z
LAST-MODIFIED:20240724T072431Z
UID:5114-1721811600-1721836800@www.nwrdc.net
SUMMARY:(168844) Qmlativ Financial Reporting - In Person
DESCRIPTION:This session will cover General Navigation\, List Screens\, Data Mining\, and Advanced Reporting for Financial Management in Qmlativ. The first part of the workshop will focus on navigating the areas of Finanical Management and creating List Screens to reivew data. The second part of the workshop will focus on creating Data Mining Reports and utilizing Advanced Reporting.   \nTarget Audience: District Personnel responsible for reporting and analyzing financial data.
URL:https://www.nwrdc.net/event/168844-qmlativ-financial-reporting-in-person/
LOCATION:NWRDC Training Lab
CATEGORIES:Finance
END:VEVENT
BEGIN:VEVENT
DTSTART;VALUE=DATE:20240730
DTEND;VALUE=DATE:20240731
DTSTAMP:20260423T052913
CREATED:20240217T045711Z
LAST-MODIFIED:20240730T045603Z
UID:4531-1722297600-1722383999@www.nwrdc.net
SUMMARY:(167100) DISTRICT - Year End Process Working Session - Online Session
DESCRIPTION:This is a working session designed for Skyward District Level Contacts to retain pertinent student and system information from the current school year and run the Year End Wizard to roll the database forward to the new school year. The Year End Wizard is divided into multiple steps: Pre-Year End Validation\, Next Year Table Creation\, Student Program Withdrawls\, Student Year End Processes\, Student Year Start Utilities and Post-Year End Validation. \nTarget Audience: Skyward District Coordinators responsible for performing District Year End Processes.
URL:https://www.nwrdc.net/event/district-year-end-process-working-session-online-session-13/
LOCATION:Online Only
CATEGORIES:Student
END:VEVENT
BEGIN:VEVENT
DTSTART;TZID=UTC:20240730T080000
DTEND;TZID=UTC:20240730T090000
DTSTAMP:20260423T052913
CREATED:20240703T192344Z
LAST-MODIFIED:20240730T072345Z
UID:5732-1722326400-1722330000@www.nwrdc.net
SUMMARY:(171564) SMS2Q HR & Payroll Reporting - Online Session
DESCRIPTION:SMS2Q sessions allow users from districts migrating within the next 6-9 months to bring any questions they encountered when completing their Pre-Migration trainings on the designated topic. Users can obtain the Training Schedule from their Project Manager that details the various PDC courses\, documentation\, and video resources that are a prerequisite to attending this Q&A session.
URL:https://www.nwrdc.net/event/171564-sms2q-hr-payroll-reporting-online-session/
LOCATION:Online Only
CATEGORIES:HR/Payroll
END:VEVENT
END:VCALENDAR